BEGIN:VCALENDAR
VERSION:2.0
PRODID:-//Tudor Place - ECPv6.15.20//NONSGML v1.0//EN
CALSCALE:GREGORIAN
METHOD:PUBLISH
X-WR-CALNAME:Tudor Place
X-ORIGINAL-URL:https://tudorplace.org
X-WR-CALDESC:Events for Tudor Place
REFRESH-INTERVAL;VALUE=DURATION:PT1H
X-Robots-Tag:noindex
X-PUBLISHED-TTL:PT1H
BEGIN:VTIMEZONE
TZID:America/New_York
BEGIN:DAYLIGHT
TZOFFSETFROM:-0500
TZOFFSETTO:-0400
TZNAME:EDT
DTSTART:20240310T070000
END:DAYLIGHT
BEGIN:STANDARD
TZOFFSETFROM:-0400
TZOFFSETTO:-0500
TZNAME:EST
DTSTART:20241103T060000
END:STANDARD
BEGIN:DAYLIGHT
TZOFFSETFROM:-0500
TZOFFSETTO:-0400
TZNAME:EDT
DTSTART:20250309T070000
END:DAYLIGHT
BEGIN:STANDARD
TZOFFSETFROM:-0400
TZOFFSETTO:-0500
TZNAME:EST
DTSTART:20251102T060000
END:STANDARD
BEGIN:DAYLIGHT
TZOFFSETFROM:-0500
TZOFFSETTO:-0400
TZNAME:EDT
DTSTART:20260308T070000
END:DAYLIGHT
BEGIN:STANDARD
TZOFFSETFROM:-0400
TZOFFSETTO:-0500
TZNAME:EST
DTSTART:20261101T060000
END:STANDARD
END:VTIMEZONE
BEGIN:VEVENT
DTSTART;TZID=America/New_York:20251203T100000
DTEND;TZID=America/New_York:20251203T110000
DTSTAMP:20260423T072939
CREATED:20250430T155355Z
LAST-MODIFIED:20251126T150135Z
UID:10000288-1764756000-1764759600@tudorplace.org
SUMMARY:Tudor Tots: L is for Light
DESCRIPTION:SOLD OUT! \nAs the sun sets earlier and more lights are turned on\, how did people of the past see in the dark? Early learners aged 18 months to 4 years old and their caregivers will learn about candles\, mirrors\, windows and when Tudor Place installed electricity. This program will be taught through group story time\, songs\, museum artifacts and a hands-on art project. \nMember Child: $5 | Non-Member Child: $10 | Accompanying Adult: Free
URL:https://tudorplace.org/event/tudor-tots-l-is-for-light/
LOCATION:Tudor Place
CATEGORIES:Calendar,Members,Tudor Tots,Youth & Family
ATTACH;FMTTYPE=image/jpeg:https://tudorplace.org/wp-content/uploads/2025/04/20191205-2019-11-05-tudor-lights-00229-scaled.jpg
END:VEVENT
BEGIN:VEVENT
DTSTART;TZID=America/New_York:20251203T173000
DTEND;TZID=America/New_York:20251203T183000
DTSTAMP:20260423T072939
CREATED:20250430T162615Z
LAST-MODIFIED:20251117T161554Z
UID:10000291-1764783000-1764786600@tudorplace.org
SUMMARY:Candlelight Tours
DESCRIPTION:Experience an evening at Tudor Place this holiday season. This program provides an opportunity to tour the holiday installation after hours and see Tudor Place as generations before did once the sun set. \nGuests are welcome to enjoy hot cider and cookies before or after their tour\, as well as take home a seasonal art activity to extend their experience. \nThe tour is approximately 45 minutes and will start promptly at the appointed time. \nMembers: $15 | Non-Members: $25
URL:https://tudorplace.org/event/candlelight-tours/
LOCATION:Tudor Place
CATEGORIES:Adult Programs,Calendar,Holidays,Members,Tours
ATTACH;FMTTYPE=image/jpeg:https://tudorplace.org/wp-content/uploads/2025/04/House-white-lights-north-facade-Dec-2020-scaled.jpg
END:VEVENT
BEGIN:VEVENT
DTSTART;TZID=America/New_York:20251203T180000
DTEND;TZID=America/New_York:20251203T190000
DTSTAMP:20260423T072939
CREATED:20250430T163231Z
LAST-MODIFIED:20251117T161203Z
UID:10000292-1764784800-1764788400@tudorplace.org
SUMMARY:Candlelight Tours
DESCRIPTION:Experience an evening at Tudor Place this holiday season. This program provides an opportunity to tour the holiday installation after hours and see Tudor Place as generations before did once the sun set. \nGuests are welcome to enjoy hot cider and cookies before or after their tour\, as well as take home a seasonal art activity to extend their experience. \nThe tour is approximately 45 minutes and will start promptly at the appointed time. \nMembers: $15 | Non-Members: $25
URL:https://tudorplace.org/event/candlelight-tours-2/
LOCATION:Tudor Place
CATEGORIES:Adult Programs,Calendar,Holidays,Members,Tours
ATTACH;FMTTYPE=image/jpeg:https://tudorplace.org/wp-content/uploads/2025/04/House-white-lights-north-facade-Dec-2020-scaled.jpg
END:VEVENT
BEGIN:VEVENT
DTSTART;TZID=America/New_York:20251203T183000
DTEND;TZID=America/New_York:20251203T193000
DTSTAMP:20260423T072939
CREATED:20250430T163346Z
LAST-MODIFIED:20251117T161506Z
UID:10000193-1764786600-1764790200@tudorplace.org
SUMMARY:Candlelight Tours
DESCRIPTION:Experience an evening at Tudor Place this holiday season. This program provides an opportunity to tour the holiday installation after hours and see Tudor Place as generations before did once the sun set. \nGuests are welcome to enjoy hot cider and cookies before or after their tour\, as well as take home a seasonal art activity to extend their experience. \nThe tour is approximately 45 minutes and will start promptly at the appointed time. \nMembers: $15 | Non-Members: $25
URL:https://tudorplace.org/event/candlelight-tours-3/
LOCATION:Tudor Place
CATEGORIES:Adult Programs,Calendar,Holidays,Members,Tours
ATTACH;FMTTYPE=image/jpeg:https://tudorplace.org/wp-content/uploads/2025/04/House-white-lights-north-facade-Dec-2020-scaled.jpg
END:VEVENT
BEGIN:VEVENT
DTSTART;TZID=America/New_York:20251204T120000
DTEND;TZID=America/New_York:20251204T163000
DTSTAMP:20260423T072939
CREATED:20250320T154140Z
LAST-MODIFIED:20250723T191210Z
UID:10000278-1764849600-1764865800@tudorplace.org
SUMMARY:Member Exclusive: Holiday Open House
DESCRIPTION:Tudor Place members are invited to stop by the Victorian Dower House (administration building) to enjoy hot cocoa and holiday treats. Afterward\, take advantage of your member discount for unique shopping opportunities at the Museum Shop\, where you’ll discover one-of-a-kind treasures and gifts to complete your holiday list at the Museum Shop. \nDrop in anytime and stay as long as you’d like. RSVP in link (appreciated but not required). \nMembers: Free | Not a member yet? Sign up here today for this and other benefits.
URL:https://tudorplace.org/event/holiday-open-house/
LOCATION:Dower House\, 1670 31st Street NW\, Washington\, DC\, 20007\, United States
CATEGORIES:Adult Programs,Calendar,Free,Holidays,Members
ATTACH;FMTTYPE=image/jpeg:https://tudorplace.org/wp-content/uploads/2025/03/Christmas-Cocoa-recipe-002.jpg
END:VEVENT
BEGIN:VEVENT
DTSTART;TZID=America/New_York:20251205T173000
DTEND;TZID=America/New_York:20251205T183000
DTSTAMP:20260423T072939
CREATED:20250430T163559Z
LAST-MODIFIED:20251117T161601Z
UID:10000194-1764955800-1764959400@tudorplace.org
SUMMARY:Candlelight Tours
DESCRIPTION:Experience an evening at Tudor Place this holiday season. This program provides an opportunity to tour the holiday installation after hours and see Tudor Place as generations before did once the sun set. \nGuests are welcome to enjoy hot cider and cookies before or after their tour\, as well as take home a seasonal art activity to extend their experience. \nThe tour is approximately 45 minutes and will start promptly at the appointed time. \nMembers: $15 | Non-Members: $25
URL:https://tudorplace.org/event/candlelight-tours-4/
LOCATION:Tudor Place
CATEGORIES:Adult Programs,Calendar,Holidays,Members,Tours
ATTACH;FMTTYPE=image/jpeg:https://tudorplace.org/wp-content/uploads/2025/04/House-white-lights-north-facade-Dec-2020-scaled.jpg
END:VEVENT
BEGIN:VEVENT
DTSTART;TZID=America/New_York:20251205T180000
DTEND;TZID=America/New_York:20251205T190000
DTSTAMP:20260423T072939
CREATED:20250430T163635Z
LAST-MODIFIED:20251117T161705Z
UID:10000195-1764957600-1764961200@tudorplace.org
SUMMARY:Candlelight Tours
DESCRIPTION:Experience an evening at Tudor Place this holiday season. This program provides an opportunity to tour the holiday installation after hours and see Tudor Place as generations before did once the sun set. \nGuests are welcome to enjoy hot cider and cookies before or after their tour\, as well as take home a seasonal art activity to extend their experience. \nThe tour is approximately 45 minutes and will start promptly at the appointed time. \nMembers: $15 | Non-Members: $25
URL:https://tudorplace.org/event/candlelight-tours-5/
LOCATION:Tudor Place
CATEGORIES:Adult Programs,Calendar,Holidays,Members,Tours
ATTACH;FMTTYPE=image/jpeg:https://tudorplace.org/wp-content/uploads/2025/04/House-white-lights-north-facade-Dec-2020-scaled.jpg
END:VEVENT
BEGIN:VEVENT
DTSTART;TZID=America/New_York:20251205T183000
DTEND;TZID=America/New_York:20251205T193000
DTSTAMP:20260423T072939
CREATED:20250430T163722Z
LAST-MODIFIED:20251117T162307Z
UID:10000196-1764959400-1764963000@tudorplace.org
SUMMARY:Candlelight Tours
DESCRIPTION:Experience an evening at Tudor Place this holiday season. This program provides an opportunity to tour the holiday installation after hours and see Tudor Place as generations before did once the sun set. \nGuests are welcome to enjoy hot cider and cookies before or after their tour\, as well as take home a seasonal art activity to extend their experience. \nThe tour is approximately 45 minutes and will start promptly at the appointed time. \nMembers: $15 | Non-Members: $25
URL:https://tudorplace.org/event/candlelight-tours-6/
LOCATION:Tudor Place
CATEGORIES:Adult Programs,Calendar,Holidays,Members,Tours
ATTACH;FMTTYPE=image/jpeg:https://tudorplace.org/wp-content/uploads/2025/04/House-white-lights-north-facade-Dec-2020-scaled.jpg
END:VEVENT
BEGIN:VEVENT
DTSTART;TZID=America/New_York:20251206T140000
DTEND;TZID=America/New_York:20251206T160000
DTSTAMP:20260423T072939
CREATED:20250430T161500Z
LAST-MODIFIED:20251117T162314Z
UID:10000289-1765029600-1765036800@tudorplace.org
SUMMARY:Holiday Tea & Tour
DESCRIPTION:Celebrate the season at our annual holiday tea and tour program. Enjoy seasonal tea selections\, mini-desserts\, scones and tea sandwiches in the historic Dower House followed by a guided tour of Tudor Place focusing on the holiday installation. \nMembers: $55 | Non-Members: $65
URL:https://tudorplace.org/event/holiday-tea-tour-2/
LOCATION:Dower House\, 1670 31st Street NW\, Washington\, DC\, 20007\, United States
CATEGORIES:Adult Programs,Calendar,Holidays,Members,Tours
ATTACH;FMTTYPE=image/jpeg:https://tudorplace.org/wp-content/uploads/2023/08/TeaTour.-Photo-Stacie-Smith-Evans-Photography-scaled.jpg
END:VEVENT
BEGIN:VEVENT
DTSTART;TZID=America/New_York:20251206T173000
DTEND;TZID=America/New_York:20251206T183000
DTSTAMP:20260423T072939
CREATED:20250430T163905Z
LAST-MODIFIED:20251117T162314Z
UID:10000197-1765042200-1765045800@tudorplace.org
SUMMARY:Candlelight Tours
DESCRIPTION:Experience an evening at Tudor Place this holiday season. This program provides an opportunity to tour the holiday installation after hours and see Tudor Place as generations before did once the sun set. \nGuests are welcome to enjoy hot cider and cookies before or after their tour\, as well as take home a seasonal art activity to extend their experience. \nThe tour is approximately 45 minutes and will start promptly at the appointed time. \nMembers: $15 | Non-Members: $25
URL:https://tudorplace.org/event/candlelight-tours-7/
LOCATION:Tudor Place
CATEGORIES:Adult Programs,Calendar,Holidays,Members,Tours
ATTACH;FMTTYPE=image/jpeg:https://tudorplace.org/wp-content/uploads/2025/04/House-white-lights-north-facade-Dec-2020-scaled.jpg
END:VEVENT
BEGIN:VEVENT
DTSTART;TZID=America/New_York:20251206T180000
DTEND;TZID=America/New_York:20251206T190000
DTSTAMP:20260423T072939
CREATED:20250430T164001Z
LAST-MODIFIED:20251117T162612Z
UID:10000198-1765044000-1765047600@tudorplace.org
SUMMARY:Candlelight Tours
DESCRIPTION:Experience an evening at Tudor Place this holiday season. This program provides an opportunity to tour the holiday installation after hours and see Tudor Place as generations before did once the sun set. \nGuests are welcome to enjoy hot cider and cookies before or after their tour\, as well as take home a seasonal art activity to extend their experience. \nThe tour is approximately 45 minutes and will start promptly at the appointed time. \nMembers: $15 | Non-Members: $25
URL:https://tudorplace.org/event/candlelight-tours-8/
LOCATION:Tudor Place
CATEGORIES:Adult Programs,Calendar,Holidays,Members,Tours
ATTACH;FMTTYPE=image/jpeg:https://tudorplace.org/wp-content/uploads/2025/04/House-white-lights-north-facade-Dec-2020-scaled.jpg
END:VEVENT
BEGIN:VEVENT
DTSTART;TZID=America/New_York:20251206T183000
DTEND;TZID=America/New_York:20251206T193000
DTSTAMP:20260423T072939
CREATED:20250430T164047Z
LAST-MODIFIED:20251117T162613Z
UID:10000199-1765045800-1765049400@tudorplace.org
SUMMARY:Candlelight Tours
DESCRIPTION:Experience an evening at Tudor Place this holiday season. This program provides an opportunity to tour the holiday installation after hours and see Tudor Place as generations before did once the sun set. \nGuests are welcome to enjoy hot cider and cookies before or after their tour\, as well as take home a seasonal art activity to extend their experience. \nThe tour is approximately 45 minutes and will start promptly at the appointed time. \nMembers: $15 | Non-Members: $25
URL:https://tudorplace.org/event/candlelight-tours-9/
LOCATION:Tudor Place
CATEGORIES:Adult Programs,Calendar,Holidays,Members,Tours
ATTACH;FMTTYPE=image/jpeg:https://tudorplace.org/wp-content/uploads/2025/04/House-white-lights-north-facade-Dec-2020-scaled.jpg
END:VEVENT
BEGIN:VEVENT
DTSTART;TZID=America/New_York:20251211T183000
DTEND;TZID=America/New_York:20251211T203000
DTSTAMP:20260423T072939
CREATED:20250320T163127Z
LAST-MODIFIED:20250512T200720Z
UID:10000279-1765477800-1765485000@tudorplace.org
SUMMARY:Tudor Lights: Christmas at Tudor Place
DESCRIPTION:Kick off the holiday season with a visit to the historic house\, where decorations and installations that set a festive tone offer a unique glimpse at collection items with a special holiday twist. Prepare for some sparkling fun. Wander through the garden\, illuminated with holiday lights\, creating a magical evening atmosphere. Conclude your evening with cocktails and seasonal refreshments. \nMembers: $25 | Non-members: $55 \nNot a member yet? Sign up here today for this and other benefits.
URL:https://tudorplace.org/event/tudor-lights/
LOCATION:Tudor Place
CATEGORIES:Adult Programs,Calendar,Holidays,Members,Tudor Nights
ATTACH;FMTTYPE=image/jpeg:https://tudorplace.org/wp-content/uploads/2025/03/Tudor-Lights-2025-scaled.jpg
END:VEVENT
BEGIN:VEVENT
DTSTART;TZID=America/New_York:20251213T140000
DTEND;TZID=America/New_York:20251213T160000
DTSTAMP:20260423T072939
CREATED:20250430T161549Z
LAST-MODIFIED:20251117T162635Z
UID:10000290-1765634400-1765641600@tudorplace.org
SUMMARY:Holiday Tea & Tour
DESCRIPTION:Celebrate the season at our annual holiday tea and tour program. Enjoy seasonal tea selections\, mini-desserts\, scones and tea sandwiches in the historic Dower House followed by a guided tour of Tudor Place focusing on the holiday installation. \nMembers: $55 | Non-Members: $65
URL:https://tudorplace.org/event/holiday-tea-tour-4/
LOCATION:Dower House\, 1670 31st Street NW\, Washington\, DC\, 20007\, United States
CATEGORIES:Adult Programs,Calendar,Holidays,Members,Tours
ATTACH;FMTTYPE=image/jpeg:https://tudorplace.org/wp-content/uploads/2023/08/TeaTour.-Photo-Stacie-Smith-Evans-Photography-scaled.jpg
END:VEVENT
BEGIN:VEVENT
DTSTART;TZID=America/New_York:20251213T173000
DTEND;TZID=America/New_York:20251213T183000
DTSTAMP:20260423T072939
CREATED:20250430T164326Z
LAST-MODIFIED:20251120T164824Z
UID:10000200-1765647000-1765650600@tudorplace.org
SUMMARY:Candlelight Tours
DESCRIPTION:Experience an evening at Tudor Place this holiday season. This program provides an opportunity to tour the holiday installation after hours and see Tudor Place as generations before did once the sun set. \nGuests are welcome to enjoy hot cider and cookies before or after their tour\, as well as take home a seasonal art activity to extend their experience. \nThe tour is approximately 45 minutes and will start promptly at the appointed time. \nMembers: $15 | Non-Members: $25
URL:https://tudorplace.org/event/candlelight-tours-10/
LOCATION:Tudor Place
CATEGORIES:Adult Programs,Calendar,Holidays,Members,Tours
ATTACH;FMTTYPE=image/jpeg:https://tudorplace.org/wp-content/uploads/2025/04/House-white-lights-north-facade-Dec-2020-scaled.jpg
END:VEVENT
BEGIN:VEVENT
DTSTART;TZID=America/New_York:20251213T180000
DTEND;TZID=America/New_York:20251213T190000
DTSTAMP:20260423T072939
CREATED:20250430T164416Z
LAST-MODIFIED:20251117T162736Z
UID:10000201-1765648800-1765652400@tudorplace.org
SUMMARY:Candlelight Tours
DESCRIPTION:Experience an evening at Tudor Place this holiday season. This program provides an opportunity to tour the holiday installation after hours and see Tudor Place as generations before did once the sun set. \nGuests are welcome to enjoy hot cider and cookies before or after their tour\, as well as take home a seasonal art activity to extend their experience. \nThe tour is approximately 45 minutes and will start promptly at the appointed time. \nMembers: $15 | Non-Members: $25
URL:https://tudorplace.org/event/candlelight-tours-11/
LOCATION:Tudor Place
CATEGORIES:Adult Programs,Calendar,Holidays,Members,Tours
ATTACH;FMTTYPE=image/jpeg:https://tudorplace.org/wp-content/uploads/2025/04/House-white-lights-north-facade-Dec-2020-scaled.jpg
END:VEVENT
BEGIN:VEVENT
DTSTART;TZID=America/New_York:20251213T183000
DTEND;TZID=America/New_York:20251213T193000
DTSTAMP:20260423T072939
CREATED:20250430T164500Z
LAST-MODIFIED:20251117T162741Z
UID:10000202-1765650600-1765654200@tudorplace.org
SUMMARY:Candlelight Tours
DESCRIPTION:Experience an evening at Tudor Place this holiday season. This program provides an opportunity to tour the holiday installation after hours and see Tudor Place as generations before did once the sun set. \nGuests are welcome to enjoy hot cider and cookies before or after their tour\, as well as take home a seasonal art activity to extend their experience. \nThe tour is approximately 45 minutes and will start promptly at the appointed time. \nMembers: $15 | Non-Members: $25
URL:https://tudorplace.org/event/candlelight-tours-12/
LOCATION:Tudor Place
CATEGORIES:Adult Programs,Calendar,Holidays,Members,Tours
ATTACH;FMTTYPE=image/jpeg:https://tudorplace.org/wp-content/uploads/2025/04/House-white-lights-north-facade-Dec-2020-scaled.jpg
END:VEVENT
END:VCALENDAR