BEGIN:VCALENDAR
VERSION:2.0
PRODID:-//Tudor Place - ECPv6.15.20//NONSGML v1.0//EN
CALSCALE:GREGORIAN
METHOD:PUBLISH
X-ORIGINAL-URL:https://tudorplace.org
X-WR-CALDESC:Events for Tudor Place
REFRESH-INTERVAL;VALUE=DURATION:PT1H
X-Robots-Tag:noindex
X-PUBLISHED-TTL:PT1H
BEGIN:VTIMEZONE
TZID:America/New_York
BEGIN:DAYLIGHT
TZOFFSETFROM:-0500
TZOFFSETTO:-0400
TZNAME:EDT
DTSTART:20240310T070000
END:DAYLIGHT
BEGIN:STANDARD
TZOFFSETFROM:-0400
TZOFFSETTO:-0500
TZNAME:EST
DTSTART:20241103T060000
END:STANDARD
BEGIN:DAYLIGHT
TZOFFSETFROM:-0500
TZOFFSETTO:-0400
TZNAME:EDT
DTSTART:20250309T070000
END:DAYLIGHT
BEGIN:STANDARD
TZOFFSETFROM:-0400
TZOFFSETTO:-0500
TZNAME:EST
DTSTART:20251102T060000
END:STANDARD
BEGIN:DAYLIGHT
TZOFFSETFROM:-0500
TZOFFSETTO:-0400
TZNAME:EDT
DTSTART:20260308T070000
END:DAYLIGHT
BEGIN:STANDARD
TZOFFSETFROM:-0400
TZOFFSETTO:-0500
TZNAME:EST
DTSTART:20261101T060000
END:STANDARD
END:VTIMEZONE
BEGIN:VEVENT
DTSTART;TZID=America/New_York:20251028T100000
DTEND;TZID=America/New_York:20251102T160000
DTSTAMP:20260423T085227
CREATED:20250915T144846Z
LAST-MODIFIED:20250915T144846Z
UID:10000304-1761645600-1762099200@tudorplace.org
SUMMARY:Tangled Roots: Families of Tudor Place (October 28 - November 2)
DESCRIPTION:Explore the lives and legacies of the multi-generational Black and white families who shaped this iconic Georgetown estate. \nMembers: FREE | Students\, Seniors\, Military: $5 | Non-members: $10 \nNot a member yet? Sign up here today for this and other benefits. \nSelect the Date and Time of Your Tour Below: \n \nTuesday\, October 28 \n10:00 a.m. \n11:00 a.m. \n12:00 p.m. \n1:00 p.m. \n2:00 p.m. \n3:00 p.m. \n  \nWednesday\, October 29 \n10:00 a.m. \n11:00 a.m. \n12:00 p.m. \n1:00 p.m. \n2:00 p.m. \n3:00 p.m. \n  \nThursday\, October 30 \n10:00 a.m. \n11:00 a.m. \n12:00 p.m. \n1:00 p.m. \n2:00 p.m. \n3:00 p.m. \n  \nFriday\, October 31 \n10:00 a.m. \n11:00 a.m. \n12:00 p.m. \n1:00 p.m. \n2:00 p.m. \n3:00 p.m. \n  \nSaturday\, November 1 \n10:00 a.m. \n11:00 a.m. \n12:00 p.m. \n1:00 p.m. \n2:00 p.m. \n3:00 p.m. \n  \nSunday\, November 2 \n12:00 p.m. \n1:00 p.m. \n2:00 p.m. \n3:00 p.m.
URL:https://tudorplace.org/event/tangled-roots-families-of-tudor-place-october-28-november-2/
LOCATION:Tudor Place
CATEGORIES:Calendar,Tours
ATTACH;FMTTYPE=image/jpeg:https://tudorplace.org/wp-content/uploads/2025/02/Tangled-Roots-web-1.jpg
ORGANIZER;CN="Tudor Place":MAILTO:education@tudorplace.org
END:VEVENT
BEGIN:VEVENT
DTSTART;TZID=America/New_York:20251101T100000
DTEND;TZID=America/New_York:20251101T120000
DTSTAMP:20260423T085227
CREATED:20250115T173910Z
LAST-MODIFIED:20250127T155429Z
UID:10000240-1761991200-1761998400@tudorplace.org
SUMMARY:Weekend Weeders
DESCRIPTION:Join fellow garden lovers and the Tudor Place garden team and help eradicate invasive species. Learn to identify non-native\, invasive species of plants and help the garden team on their mission to keep them out of the historic garden. \nSuggested attire includes long pants and sleeves\, gloves and sturdy boots or sneakers. Tools will be provided. Volunteers will be responsible for water\, bug spray and sun protection. Please note we may work on steep inclines. Due to the use of sharp tools\, this activity is restricted to those age 13 and older. \nMembers: Free | Non-Members: Free
URL:https://tudorplace.org/event/weekend-weeders-6/
LOCATION:Tudor Place
CATEGORIES:Adult Programs,Calendar,Free,Garden,Members
ATTACH;FMTTYPE=image/jpeg:https://tudorplace.org/wp-content/uploads/2025/01/Weekend-Weeders-e1737571083126.jpg
END:VEVENT
BEGIN:VEVENT
DTSTART;TZID=America/New_York:20251101T133000
DTEND;TZID=America/New_York:20251101T141500
DTSTAMP:20260423T085227
CREATED:20250127T202429Z
LAST-MODIFIED:20250324T171358Z
UID:10000164-1762003800-1762006500@tudorplace.org
SUMMARY:Guided Garden Tour
DESCRIPTION:Explore Tudor Place on a guided tour with our garden team. Learn about the site’s history\, design and the principles that guide our care of this historic landscape. \nAccessibility: The garden is accessible from the city sidewalk\, without steps\, via a cobblestone path. Garden surfaces consist of grassy areas and paths laid with pea gravel\, flagstone\, bricks and stones set in grass. There are stairs and uneven surfaces. Some areas are only accessed via steps. \nMember: $5 | Non-Member: $10
URL:https://tudorplace.org/event/guided-garden-tour-6/
LOCATION:Tudor Place
CATEGORIES:Adult Programs,Calendar,Garden,Members,Tours
ATTACH;FMTTYPE=image/png:https://tudorplace.org/wp-content/uploads/2025/01/Garden-Specialty-Tour-Website-Final.png
END:VEVENT
BEGIN:VEVENT
DTSTART;TZID=America/New_York:20251104T100000
DTEND;TZID=America/New_York:20251109T160000
DTSTAMP:20260423T085227
CREATED:20251023T174209Z
LAST-MODIFIED:20251023T174209Z
UID:10000305-1762250400-1762704000@tudorplace.org
SUMMARY:Tangled Roots: Families of Tudor Place (November 4 - November 9)
DESCRIPTION:Explore the lives and legacies of the multi-generational Black and white families who shaped this iconic Georgetown estate. \nMembers: FREE | Students\, Seniors\, Military: $5 | Non-members: $10 \nNot a member yet? Sign up here today for this and other benefits. \nSelect the Date and Time of Your Tour Below: \n \nTuesday\, November 4 \n10:00 a.m. \n11:00 a.m. \n12:00 p.m. \n1:00 p.m. \n2:00 p.m. \n3:00 p.m. \n  \nWednesday\, November 5 \n10:00 a.m. \n11:00 a.m. \n12:00 p.m. \n1:00 p.m. \n2:00 p.m. \n3:00 p.m. \n  \nThursday\, November 6 \n10:00 a.m. \n11:00 a.m. \n12:00 p.m. \n1:00 p.m. \n2:00 p.m. \n3:00 p.m. \n  \nFriday\, November 7 \n10:00 a.m. \n11:00 a.m. \n12:00 p.m. \n1:00 p.m. \n2:00 p.m. \n3:00 p.m. \n  \nSaturday\, November 8 \n10:00 a.m. \n11:00 a.m. \n12:00 p.m. \n1:00 p.m. \n2:00 p.m. \n3:00 p.m. \n  \nSunday\, November 9 \n12:00 p.m. \n1:00 p.m. \n2:00 p.m. \n3:00 p.m.
URL:https://tudorplace.org/event/tangled-roots-families-of-tudor-place-november-4-november-9/
LOCATION:Tudor Place
CATEGORIES:Calendar,Tours
ATTACH;FMTTYPE=image/jpeg:https://tudorplace.org/wp-content/uploads/2025/02/Tangled-Roots-web-1.jpg
ORGANIZER;CN="Tudor Place":MAILTO:education@tudorplace.org
END:VEVENT
BEGIN:VEVENT
DTSTART;TZID=America/New_York:20251105T100000
DTEND;TZID=America/New_York:20251105T110000
DTSTAMP:20260423T085227
CREATED:20250430T154555Z
LAST-MODIFIED:20250717T204707Z
UID:10000285-1762336800-1762340400@tudorplace.org
SUMMARY:Tudor Tots: S is for Scents of the Season
DESCRIPTION:The seasons are changing\, and you can see that at Tudor Place. Early learners aged 18 months to 4 years old and their caregivers will explore the garden to see the subtle changes that fall brings to this historic site. This program will be taught through group story time\, songs\, a sensory walk and a hands-on art project. \nMember Child: $5 | Non-Member Child: $10 | Accompanying Adult: Free
URL:https://tudorplace.org/event/tudor-tots-s-is-for-scents-of-the-season/
LOCATION:Tudor Place
CATEGORIES:Calendar,Members,Tudor Tots,Youth & Family
ATTACH;FMTTYPE=image/jpeg:https://tudorplace.org/wp-content/uploads/2025/04/crop-october_rose.jpg
END:VEVENT
BEGIN:VEVENT
DTSTART;TZID=America/New_York:20251112T100000
DTEND;TZID=America/New_York:20251116T160000
DTSTAMP:20260423T085227
CREATED:20251024T140811Z
LAST-MODIFIED:20251024T140811Z
UID:10000306-1762941600-1763308800@tudorplace.org
SUMMARY:Tangled Roots: Families of Tudor Place (November 12 - November 16)
DESCRIPTION:Explore the lives and legacies of the multi-generational Black and white families who shaped this iconic Georgetown estate. \nMembers: FREE | Students\, Seniors\, Military: $5 | Non-members: $10 \nNot a member yet? Sign up here today for this and other benefits. \nSelect the Date and Time of Your Tour Below: \n \nWednesday\, November 12 \n10:00 a.m. \n11:00 a.m. \n12:00 p.m. \n1:00 p.m. \n2:00 p.m. \n3:00 p.m. \n  \nThursday\, November 13 \n10:00 a.m. \n11:00 a.m. \n12:00 p.m. \n1:00 p.m. \n2:00 p.m. \n3:00 p.m. \n  \nFriday\, November 14 \n10:00 a.m. \n11:00 a.m. \n12:00 p.m. \n1:00 p.m. \n2:00 p.m. \n3:00 p.m. \n  \nSaturday\, November 15 \n10:00 a.m. \n11:00 a.m. \n12:00 p.m. \n1:00 p.m. \n2:00 p.m. \n3:00 p.m. \n  \nSunday\, November 16 \n12:00 p.m. \n1:00 p.m. \n2:00 p.m. \n3:00 p.m.
URL:https://tudorplace.org/event/tangled-roots-families-of-tudor-place-november-12-november-16/
LOCATION:Tudor Place
CATEGORIES:Calendar,Tours
ATTACH;FMTTYPE=image/jpeg:https://tudorplace.org/wp-content/uploads/2025/02/Tangled-Roots-web-1.jpg
ORGANIZER;CN="Tudor Place":MAILTO:education@tudorplace.org
END:VEVENT
BEGIN:VEVENT
DTSTART;TZID=America/New_York:20251118T100000
DTEND;TZID=America/New_York:20251123T160000
DTSTAMP:20260423T085227
CREATED:20251024T141910Z
LAST-MODIFIED:20251024T141910Z
UID:10000307-1763460000-1763913600@tudorplace.org
SUMMARY:Tangled Roots: Families of Tudor Place (November 18 - November 23)
DESCRIPTION:Explore the lives and legacies of the multi-generational Black and white families who shaped this iconic Georgetown estate. \nMembers: FREE | Students\, Seniors\, Military: $5 | Non-members: $10 \nNot a member yet? Sign up here today for this and other benefits. \nSelect the Date and Time of Your Tour Below: \n \nTuesday\, November 18 \n10:00 a.m. \n11:00 a.m. \n12:00 p.m. \n1:00 p.m. \n2:00 p.m. \n3:00 p.m. \n  \nWednesday\, November 19 \n10:00 a.m. \n11:00 a.m. \n12:00 p.m. \n1:00 p.m. \n2:00 p.m. \n3:00 p.m. \n  \nThursday\, November 20 \n10:00 a.m. \n11:00 a.m. \n12:00 p.m. \n1:00 p.m. \n2:00 p.m. \n3:00 p.m. \n  \nFriday\, November 21 \n10:00 a.m. \n11:00 a.m. \n12:00 p.m. \n1:00 p.m. \n2:00 p.m. \n3:00 p.m. \n  \nSaturday\, November 22 \n10:00 a.m. \n11:00 a.m. \n12:00 p.m. \n1:00 p.m. \n2:00 p.m. \n3:00 p.m. \n  \nSunday\, November 23 \n12:00 p.m. \n1:00 p.m. \n2:00 p.m. \n3:00 p.m.
URL:https://tudorplace.org/event/tangled-roots-families-of-tudor-place-november-18-november-23/
LOCATION:Tudor Place
CATEGORIES:Calendar,Tours
ATTACH;FMTTYPE=image/jpeg:https://tudorplace.org/wp-content/uploads/2025/02/Tangled-Roots-web-1.jpg
ORGANIZER;CN="Tudor Place":MAILTO:education@tudorplace.org
END:VEVENT
BEGIN:VEVENT
DTSTART;TZID=America/New_York:20251118T183000
DTEND;TZID=America/New_York:20251118T200000
DTSTAMP:20260423T085227
CREATED:20250630T142839Z
LAST-MODIFIED:20251106T183557Z
UID:10000302-1763490600-1763496000@tudorplace.org
SUMMARY:Landmark Lecture: The Art of Replication
DESCRIPTION:Join us for a conversation with Adam T. Erby\, The Martha Washington Chief Curator\, as he delves into the history of the piece and the process of recreating the Washington tea table. \nOn August 20\, 1757\, the London merchant Richard Washington packed “A fine Mahogany Tea Table” and a variety of other goods for the 25-year-old bachelor planter George Washington. Washington used this piece\, one of the most sophisticated pieces of furniture to arrive in the Virginia Colony\, for the rest of his life\, and it survives today at Tudor Place. In 2022\, George Washington’s Mount Vernon embarked on a project to recreate this magnificent piece of furniture for use in the historic home. The recreation restores missing elements of the original and allows for the piece to be interpreted in its original setting. \nAdam Erby received his bachelor’s degree in American Studies from the University of Virginia in 2010 and a master’s degree from the Winterthur Program in American Material Culture in 2013. He has been working with the collection at Mount Vernon since 2012 where he has published numerous articles of research regarding the Washington Collection. \nPhoto Credit: Gavin Ashworth\, Mount Vernon Ladies’ Association \nMembers: FREE | Non-Members: FREE \nNote: This program will be held LIVE at Tudor Place and  virtually. \nIn-Person Registration Link: Click here. \nVirtual Registration Link: Click here.  You will be sent instructions on how to access the virtual event one day before the event.
URL:https://tudorplace.org/event/landmark-lecture-the-ar-of-replication/
LOCATION:Dower House\, 1670 31st Street NW\, Washington\, DC\, 20007\, United States
CATEGORIES:Adult Programs,Free,Landmark Lecture,Members
ATTACH;FMTTYPE=image/jpeg:https://tudorplace.org/wp-content/uploads/2025/05/Nov-Landmark-Lecture.jpg
END:VEVENT
BEGIN:VEVENT
DTSTART;TZID=America/New_York:20251119T100000
DTEND;TZID=America/New_York:20251119T110000
DTSTAMP:20260423T085227
CREATED:20250430T155229Z
LAST-MODIFIED:20250717T204302Z
UID:10000287-1763546400-1763550000@tudorplace.org
SUMMARY:Tudor Tots: T is for Thankful
DESCRIPTION:Tis the season to be thankful! How did the Peters and other people at Tudor Place show gratitude?  Early learners aged 18 months to 4 years old and their caregivers will learn about acts of thankfulness as documented through objects and images in the Tudor Place Collection. This program will be taught through group story time\, songs\, museum artifacts and a hands-on art project. \nMember Child: $5 | Non-Member Child: $10 | Accompanying Adult: Free
URL:https://tudorplace.org/event/tudor-tots-t-is-for-thankful/
LOCATION:Tudor Place
CATEGORIES:Calendar,Members,Tudor Tots,Youth & Family
ATTACH;FMTTYPE=image/jpeg:https://tudorplace.org/wp-content/uploads/2025/04/photo-9.jpg
END:VEVENT
BEGIN:VEVENT
DTSTART;TZID=America/New_York:20251125T100000
DTEND;TZID=America/New_York:20251130T160000
DTSTAMP:20260423T085227
CREATED:20251024T171505Z
LAST-MODIFIED:20251024T171505Z
UID:10000308-1764064800-1764518400@tudorplace.org
SUMMARY:Tangled Roots: Families of Tudor Place (November 25 - November 30)
DESCRIPTION:Explore the lives and legacies of the multi-generational Black and white families who shaped this iconic Georgetown estate. \nMembers: FREE | Students\, Seniors\, Military: $5 | Non-members: $10 \nNot a member yet? Sign up here today for this and other benefits. \nSelect the Date and Time of Your Tour Below: \n \nTuesday\, November 25 \n10:00 a.m. \n11:00 a.m. \n12:00 p.m. \n1:00 p.m. \n2:00 p.m. \n3:00 p.m. \n  \nWednesday\, November 26 \n10:00 a.m. \n11:00 a.m. \n12:00 p.m. \n1:00 p.m. \n2:00 p.m. \n3:00 p.m. \n  \nFriday\, November 28 \n10:00 a.m. \n11:00 a.m. \n12:00 p.m. \n1:00 p.m. \n2:00 p.m. \n3:00 p.m. \n  \nSaturday\, November 29 \n10:00 a.m. \n11:00 a.m. \n12:00 p.m. \n1:00 p.m. \n2:00 p.m. \n3:00 p.m. \n  \nSunday\, November 30 \n12:00 p.m. \n1:00 p.m. \n2:00 p.m. \n3:00 p.m.
URL:https://tudorplace.org/event/tangled-roots-families-of-tudor-place-november-25-november-30/
LOCATION:Tudor Place
CATEGORIES:Calendar,Tours
ATTACH;FMTTYPE=image/jpeg:https://tudorplace.org/wp-content/uploads/2025/02/Tangled-Roots-web-1.jpg
ORGANIZER;CN="Tudor Place":MAILTO:education@tudorplace.org
END:VEVENT
END:VCALENDAR