BEGIN:VCALENDAR
VERSION:2.0
PRODID:-//Tudor Place - ECPv6.15.20//NONSGML v1.0//EN
CALSCALE:GREGORIAN
METHOD:PUBLISH
X-ORIGINAL-URL:https://tudorplace.org
X-WR-CALDESC:Events for Tudor Place
REFRESH-INTERVAL;VALUE=DURATION:PT1H
X-Robots-Tag:noindex
X-PUBLISHED-TTL:PT1H
BEGIN:VTIMEZONE
TZID:America/New_York
BEGIN:DAYLIGHT
TZOFFSETFROM:-0500
TZOFFSETTO:-0400
TZNAME:EDT
DTSTART:20250309T070000
END:DAYLIGHT
BEGIN:STANDARD
TZOFFSETFROM:-0400
TZOFFSETTO:-0500
TZNAME:EST
DTSTART:20251102T060000
END:STANDARD
BEGIN:DAYLIGHT
TZOFFSETFROM:-0500
TZOFFSETTO:-0400
TZNAME:EDT
DTSTART:20260308T070000
END:DAYLIGHT
BEGIN:STANDARD
TZOFFSETFROM:-0400
TZOFFSETTO:-0500
TZNAME:EST
DTSTART:20261101T060000
END:STANDARD
BEGIN:DAYLIGHT
TZOFFSETFROM:-0500
TZOFFSETTO:-0400
TZNAME:EDT
DTSTART:20270314T070000
END:DAYLIGHT
BEGIN:STANDARD
TZOFFSETFROM:-0400
TZOFFSETTO:-0500
TZNAME:EST
DTSTART:20271107T060000
END:STANDARD
END:VTIMEZONE
BEGIN:VEVENT
DTSTART;TZID=America/New_York:20260513T101500
DTEND;TZID=America/New_York:20260513T110000
DTSTAMP:20260424T131029
CREATED:20251223T232952Z
LAST-MODIFIED:20251223T232952Z
UID:10000346-1778667300-1778670000@tudorplace.org
SUMMARY:Tudor Tots: A is for Art
DESCRIPTION:The last owner of Tudor Place\, Armistead Peter 3rd\, was an artist. Let’s learn about the different styles of art through some of the works that he and members of his family made. Early learners aged 18 months to four years old and their caregivers will be able to explore the art collection of Tudor Place. This program will be taught through group story time\, museum artifacts and a hands-on art project. \nMember Child: $5 | Non-Member Child: $10 | Accompanying Adult: Free
URL:https://tudorplace.org/event/tudor-tots-a-is-for-art/
LOCATION:Tudor Place
CATEGORIES:Calendar,Members,Tudor Tots,Youth & Family
ATTACH;FMTTYPE=image/jpeg:https://tudorplace.org/wp-content/uploads/2025/12/Tots-scaled.jpg
END:VEVENT
BEGIN:VEVENT
DTSTART;TZID=America/New_York:20260610T101500
DTEND;TZID=America/New_York:20260610T110000
DTSTAMP:20260424T131029
CREATED:20251223T232830Z
LAST-MODIFIED:20251223T232830Z
UID:10000347-1781086500-1781089200@tudorplace.org
SUMMARY:Tudor Tots: F is for Flag
DESCRIPTION:Flags are ways for countries and people to help identify themselves. There are several flags in the Peter family’s collection that we can learn about. Early learners aged 18 months to four years old and their caregivers will learn about different flags and how they were made. This program will be taught through group story time\, museum artifacts and a hands-on art project. \nMember Child: $5 | Non-Member Child: $10 | Accompanying Adult: Free
URL:https://tudorplace.org/event/tudor-tots-f-is-for-flag/
LOCATION:Tudor Place
CATEGORIES:Calendar,Members,Tudor Tots,Youth & Family
ATTACH;FMTTYPE=image/jpeg:https://tudorplace.org/wp-content/uploads/2025/12/Tots-scaled.jpg
END:VEVENT
BEGIN:VEVENT
DTSTART;TZID=America/New_York:20260624T101500
DTEND;TZID=America/New_York:20260624T110000
DTSTAMP:20260424T131029
CREATED:20251223T232634Z
LAST-MODIFIED:20251223T232634Z
UID:10000348-1782296100-1782298800@tudorplace.org
SUMMARY:Tudor Tots: R is for Rainbow
DESCRIPTION:How are rainbows made and why are they so many different colors? Learn all about rainbows and find the rainbow colors in the garden. Early learners aged 18 months to four years old and their caregivers will learn about rainbows\, their colors and how they are made. This program will be taught through group story time\, garden exploration and a hands-on art project. \nMember Child: $5 | Non-Member Child: $10 | Accompanying Adult: Free
URL:https://tudorplace.org/event/tudor-tots-r-is-for-rainbow/
LOCATION:Tudor Place
CATEGORIES:Calendar,Members,Tudor Tots,Youth & Family
ATTACH;FMTTYPE=image/jpeg:https://tudorplace.org/wp-content/uploads/2025/12/Tots-scaled.jpg
END:VEVENT
BEGIN:VEVENT
DTSTART;TZID=America/New_York:20260714T173000
DTEND;TZID=America/New_York:20260714T193000
DTSTAMP:20260424T131029
CREATED:20251124T155734Z
LAST-MODIFIED:20260227T155035Z
UID:10000325-1784050200-1784057400@tudorplace.org
SUMMARY:Tudor Tuesday
DESCRIPTION:Looking for the perfect way to unwind? Join us for Tudor Tuesdays\, our special after-hours summer series. Experience Tudor Place in a whole new light! Nestled in the heart of Georgetown\, this National Historic Landmark offers a peaceful escape from the hustle and bustle of daily life. Plan a laid-back evening with friends\, family outing or a charming date night\, Tudor Place provides the perfect backdrop for a memorable summer evening. \n✨ What’s Waiting for You: \n\nOpportunity to visit our America’s 250 exhibit\, Founding Fortunes\, in the historic house\nArt Activities on the Lawn\nRelaxing Atmosphere\n\nMembers: FREE | Non-Members: $5 \nBring your own picnic\, mat/blanket and lawn chairs (please note: no red wine or red juices). Be sure to remove all trash. Trash receptacles are not provided.  Due to the historic landscape\, games\, blow up furniture\, etc. are not permitted \n 
URL:https://tudorplace.org/event/tudor-tuesday-3/
LOCATION:Tudor Place
CATEGORIES:Adult Programs,Calendar,Garden,Members,Summer,Youth & Family
ATTACH;FMTTYPE=image/jpeg:https://tudorplace.org/wp-content/uploads/2025/11/Tudor-Tuesdays-fill-in-scaled.jpg
END:VEVENT
BEGIN:VEVENT
DTSTART;TZID=America/New_York:20260715T101500
DTEND;TZID=America/New_York:20260715T110000
DTSTAMP:20260424T131029
CREATED:20251223T232452Z
LAST-MODIFIED:20251223T232452Z
UID:10000349-1784110500-1784113200@tudorplace.org
SUMMARY:Tudor Tots: H is for Hat
DESCRIPTION:So many hats! Caroline Peter owned many different types of hats. Learn about changing fashions by exploring some of her styles. Early learners aged 18 months to four years old and their caregivers will learn about different hat styles and fashion of the 20th century through the hats left by Caroline Peter. This program will be taught through group story time\, museum artifacts and a hands-on art project. \nMember Child: $5 | Non-Member Child: $10 | Accompanying Adult: Free
URL:https://tudorplace.org/event/tudor-tots-h-is-for-hat/
LOCATION:Tudor Place
CATEGORIES:Calendar,Members,Tudor Tots,Youth & Family
ATTACH;FMTTYPE=image/jpeg:https://tudorplace.org/wp-content/uploads/2025/12/Tots-scaled.jpg
END:VEVENT
BEGIN:VEVENT
DTSTART;TZID=America/New_York:20260719T100000
DTEND;TZID=America/New_York:20260719T113000
DTSTAMP:20260424T131029
CREATED:20260218T180756Z
LAST-MODIFIED:20260218T180756Z
UID:10000388-1784455200-1784460600@tudorplace.org
SUMMARY:Public Girl Scout Day: Brownies - Math in Nature 2
DESCRIPTION:Join us for a Public Girl Scout Day. Brownies\, earn the Math in Nature 2 badge. Expanding concepts from Math in Nature 1\, they will learn about temperature and measurement while exploring the garden of Tudor Place. Smaller troops or individual Girl Scouts welcome. \nGirl Scout: $12 | Adult Chaperone: $6
URL:https://tudorplace.org/event/public-girl-scout-day-brownies-math-in-nature-2/
LOCATION:Tudor Place
CATEGORIES:Calendar,Girl Scouts,Members,Youth & Family
ATTACH;FMTTYPE=image/jpeg:https://tudorplace.org/wp-content/uploads/2026/02/Brownies_Roaring-20s-scaled.jpg
END:VEVENT
BEGIN:VEVENT
DTSTART;TZID=America/New_York:20260719T130000
DTEND;TZID=America/New_York:20260719T143000
DTSTAMP:20260424T131029
CREATED:20260218T181033Z
LAST-MODIFIED:20260218T181033Z
UID:10000389-1784466000-1784471400@tudorplace.org
SUMMARY:Public Girl Scout Day: Juniors - Garden Designers
DESCRIPTION:Join us for a Public Girl Scout Day. Juniors will earn the Flowers and Gardener badges. They will explore the science of flowers and garden design through the Tudor Place garden. Smaller troops or individual Girl Scouts welcome. \nGirl Scout: $12 | Adult Chaperone: $6
URL:https://tudorplace.org/event/public-girl-scout-day-juniors-garden-designers/
LOCATION:Tudor Place
CATEGORIES:Calendar,Girl Scouts,Members,Youth & Family
ATTACH;FMTTYPE=image/jpeg:https://tudorplace.org/wp-content/uploads/2026/02/JGD_8.14.21_7-scaled-e1771436422355.jpg
END:VEVENT
BEGIN:VEVENT
DTSTART;TZID=America/New_York:20260728T173000
DTEND;TZID=America/New_York:20260728T193000
DTSTAMP:20260424T131029
CREATED:20251124T171121Z
LAST-MODIFIED:20260227T155008Z
UID:10000326-1785259800-1785267000@tudorplace.org
SUMMARY:Tudor Tuesday
DESCRIPTION:Looking for the perfect way to unwind? Join us for Tudor Tuesdays\, our special after-hours summer series. Experience Tudor Place in a whole new light! Nestled in the heart of Georgetown\, this National Historic Landmark offers a peaceful escape from the hustle and bustle of daily life. Plan a laid-back evening with friends\, family outing or a charming date night\, Tudor Place provides the perfect backdrop for a memorable summer evening. \n✨ What’s Waiting for You: \n\nOpportunity to visit our America’s 250 exhibit\, Founding Fortunes\, in the historic house\nArt Activities on the Lawn\nRelaxing Atmosphere\n\nMembers: FREE | Non-Members: $5 \nBring your own picnic\, mat/blanket and lawn chairs (please note: no red wine or red juices). Be sure to remove all trash. Trash receptacles are not provided.  Due to the historic landscape\, games\, blow up furniture\, etc. are not permitted \n 
URL:https://tudorplace.org/event/tudor-tuesday-4/
LOCATION:Tudor Place
CATEGORIES:Adult Programs,Calendar,Garden,Members,Summer,Youth & Family
ATTACH;FMTTYPE=image/jpeg:https://tudorplace.org/wp-content/uploads/2025/11/Tudor-Tuesdays-fill-in-scaled.jpg
END:VEVENT
BEGIN:VEVENT
DTSTART;TZID=America/New_York:20260811T173000
DTEND;TZID=America/New_York:20260811T193000
DTSTAMP:20260424T131029
CREATED:20251124T171219Z
LAST-MODIFIED:20260227T154940Z
UID:10000327-1786469400-1786476600@tudorplace.org
SUMMARY:Tudor Tuesday
DESCRIPTION:Looking for the perfect way to unwind? Join us for Tudor Tuesdays\, our special after-hours summer series. Experience Tudor Place in a whole new light! Nestled in the heart of Georgetown\, this National Historic Landmark offers a peaceful escape from the hustle and bustle of daily life. Plan a laid-back evening with friends\, family outing or a charming date night\, Tudor Place provides the perfect backdrop for a memorable summer evening. \n✨ What’s Waiting for You: \n\nOpportunity to visit our America’s 250 exhibit\, Founding Fortunes\, in the historic house\nArt Activities on the Lawn\nRelaxing Atmosphere\n\nMembers: FREE | Non-Members: $5 \nBring your own picnic\, mat/blanket and lawn chairs (please note: no red wine or red juices). Be sure to remove all trash. Trash receptacles are not provided.  Due to the historic landscape\, games\, blow up furniture\, etc. are not permitted \n 
URL:https://tudorplace.org/event/tudor-tuesday-5/
LOCATION:Tudor Place
CATEGORIES:Adult Programs,Calendar,Garden,Members,Summer,Youth & Family
ATTACH;FMTTYPE=image/jpeg:https://tudorplace.org/wp-content/uploads/2025/11/Tudor-Tuesdays-fill-in-scaled.jpg
END:VEVENT
BEGIN:VEVENT
DTSTART;TZID=America/New_York:20260812T101500
DTEND;TZID=America/New_York:20260812T110000
DTSTAMP:20260424T131029
CREATED:20251223T232156Z
LAST-MODIFIED:20251223T234151Z
UID:10000350-1786529700-1786532400@tudorplace.org
SUMMARY:Tudor Tots: G is for Garden
DESCRIPTION:Seeds are baby plants waiting to grow. They come in all shapes and sizes and grow into plants of all shapes and sizes. Early learners aged 18 months to four years old and their caregivers will discover what kinds of plants grow in the historic garden while enjoying a story time\, songs\, a garden experience and a hands-on art project. \nMember Child: $5 | Non-Member Child: $10 | Accompanying Adult: Free
URL:https://tudorplace.org/event/tudor-tots-g-is-for-garden/
LOCATION:Tudor Place
CATEGORIES:Calendar,Members,Tudor Tots,Youth & Family
ATTACH;FMTTYPE=image/jpeg:https://tudorplace.org/wp-content/uploads/2025/12/Tots-scaled.jpg
END:VEVENT
BEGIN:VEVENT
DTSTART;TZID=America/New_York:20260825T173000
DTEND;TZID=America/New_York:20260825T193000
DTSTAMP:20260424T131029
CREATED:20251124T171330Z
LAST-MODIFIED:20260227T154612Z
UID:10000328-1787679000-1787686200@tudorplace.org
SUMMARY:Tudor Tuesday
DESCRIPTION:Looking for the perfect way to unwind? Join us for Tudor Tuesdays\, our special after-hours summer series. Experience Tudor Place in a whole new light! Nestled in the heart of Georgetown\, this National Historic Landmark offers a peaceful escape from the hustle and bustle of daily life. Plan a laid-back evening with friends\, family outing or a charming date night\, Tudor Place provides the perfect backdrop for a memorable summer evening. \n✨ What’s Waiting for You: \n\nOpportunity to visit our America’s 250 exhibit\, Founding Fortunes\, in the historic house\nArt Activities on the Lawn\nRelaxing Atmosphere\n\nMembers: FREE | Non-Members: $5 \nBring your own picnic\, mat/blanket and lawn chairs (please note: no red wine or red juices). Be sure to remove all trash. Trash receptacles are not provided.  Due to the historic landscape\, games\, blow up furniture\, etc. are not permitted \n 
URL:https://tudorplace.org/event/tudor-tuesday-6/
LOCATION:Tudor Place
CATEGORIES:Adult Programs,Calendar,Garden,Members,Summer,Youth & Family
ATTACH;FMTTYPE=image/jpeg:https://tudorplace.org/wp-content/uploads/2025/11/Tudor-Tuesdays-fill-in-scaled.jpg
END:VEVENT
BEGIN:VEVENT
DTSTART;TZID=America/New_York:20260826T101500
DTEND;TZID=America/New_York:20260826T110000
DTSTAMP:20260424T131029
CREATED:20251223T232333Z
LAST-MODIFIED:20251223T232333Z
UID:10000351-1787739300-1787742000@tudorplace.org
SUMMARY:Tudor Tots: J is for Jewelry
DESCRIPTION:Let’s learn about the beautiful jewelry that members of the Peter family wore. Early learners aged 18 months to four years old and their caregivers will find out about the jewelry that different members of the family wore\, from rings to bracelets to watches\, and how the styles have changed. This program will be taught through group story time\, museum artifacts and a hands-on art project. \nMember Child: $5 | Non-Member Child: $10 | Accompanying Adult: Free
URL:https://tudorplace.org/event/tudor-tots-j-is-for-jewelry/
LOCATION:Tudor Place
CATEGORIES:Calendar,Members,Tudor Tots,Youth & Family
ATTACH;FMTTYPE=image/jpeg:https://tudorplace.org/wp-content/uploads/2025/12/Tots-scaled.jpg
END:VEVENT
BEGIN:VEVENT
DTSTART;TZID=America/New_York:20260909T101500
DTEND;TZID=America/New_York:20260909T110000
DTSTAMP:20260424T131029
CREATED:20251223T232024Z
LAST-MODIFIED:20251223T232024Z
UID:10000352-1788948900-1788951600@tudorplace.org
SUMMARY:Tudor Tots: O is for Okra
DESCRIPTION:Where does food come from? What do different vegetables look like before we see them in grocery stores? Let’s explore the vegetable garden at Tudor Place and see how gardeners today grow food\, just like the people of the past. Early learners aged 18 months to 4 years old and their caregivers will learn about the gardens\, different vegetables and how food is grown. This program will be taught through group story time\, garden exploration and a hands-on art project. \nMember Child: $5 | Non-Member Child: $10 | Accompanying Adult: Free \n 
URL:https://tudorplace.org/event/tudor-tots-o-is-for-okra/
LOCATION:Tudor Place
CATEGORIES:Calendar,Members,Tudor Tots,Youth & Family
ATTACH;FMTTYPE=image/jpeg:https://tudorplace.org/wp-content/uploads/2025/12/Tots-scaled.jpg
END:VEVENT
BEGIN:VEVENT
DTSTART;TZID=America/New_York:20260920T100000
DTEND;TZID=America/New_York:20260920T113000
DTSTAMP:20260424T131029
CREATED:20260218T181332Z
LAST-MODIFIED:20260218T181332Z
UID:10000390-1789898400-1789903800@tudorplace.org
SUMMARY:Public Girl Scout Day: Brownies - Be the Architect
DESCRIPTION:Join us for a Public Girl Scout Day. Brownies will earn the Inventor badge by exploring the architecture of Tudor Place and designing their own homes. Smaller troops or individual Girl Scouts welcome. \nGirl Scout: $12 | Adult Chaperone: $6
URL:https://tudorplace.org/event/public-girl-scout-day-brownies-be-the-architect/
LOCATION:Tudor Place
CATEGORIES:Calendar,Girl Scouts,Members,Youth & Family
ATTACH;FMTTYPE=image/jpeg:https://tudorplace.org/wp-content/uploads/2026/02/Brownies_Roaring-20s-scaled.jpg
END:VEVENT
BEGIN:VEVENT
DTSTART;TZID=America/New_York:20260920T130000
DTEND;TZID=America/New_York:20260920T143000
DTSTAMP:20260424T131029
CREATED:20260218T181456Z
LAST-MODIFIED:20260218T181456Z
UID:10000391-1789909200-1789914600@tudorplace.org
SUMMARY:Public Girl Scout Day: Juniors - Roaring Twenties
DESCRIPTION:Join us for a Public Girl Scout Day. Juniors will earn the Playing the Past badge. They will explore life at Tudor Place in the 1920s and make a character to take them through time. Smaller troops or individual Girl Scouts welcome. \nGirl Scout: $12 | Adult Chaperone: $6
URL:https://tudorplace.org/event/public-girl-scout-day-juniors-roaring-twenties-2/
LOCATION:Tudor Place
CATEGORIES:Calendar,Girl Scouts,Members,Youth & Family
ATTACH;FMTTYPE=image/jpeg:https://tudorplace.org/wp-content/uploads/2026/02/JGD_8.14.21_7-scaled-e1771436422355.jpg
END:VEVENT
BEGIN:VEVENT
DTSTART;TZID=America/New_York:20260923T101500
DTEND;TZID=America/New_York:20260923T110000
DTSTAMP:20260424T131029
CREATED:20251223T231751Z
LAST-MODIFIED:20251223T231751Z
UID:10000353-1790158500-1790161200@tudorplace.org
SUMMARY:Tudor Tots: Z is for Zipcode
DESCRIPTION:There could be a new friend right around the corner! Let’s learn what it means to be a good neighbor and a member of the community. Early learners aged 18 months to four years old and their caregivers will explore what makes a neighborhood and a community. Discover how Tudor Place is piecing together its history through group story time\, museum artifacts and a hands-on art project. \nMember Child: $5 | Non-Member Child: $10 | Accompanying Adult: Free
URL:https://tudorplace.org/event/tudor-tots-z-is-for-zipcode/
LOCATION:Tudor Place
CATEGORIES:Calendar,Members,Tudor Tots,Youth & Family
ATTACH;FMTTYPE=image/jpeg:https://tudorplace.org/wp-content/uploads/2025/12/Tots-scaled.jpg
END:VEVENT
BEGIN:VEVENT
DTSTART;TZID=America/New_York:20261007T101500
DTEND;TZID=America/New_York:20261007T110000
DTSTAMP:20260424T131029
CREATED:20251223T231628Z
LAST-MODIFIED:20251223T231628Z
UID:10000354-1791368100-1791370800@tudorplace.org
SUMMARY:Tudor Tots: M is for Music
DESCRIPTION:There is so much beautiful music! Let’s explore some of the instruments people of the past used and how they look similar or different to the instruments we have today. Early learners aged 18 months to four years old will investigate different musical instruments\, see some instruments in the collection and hear music that would have been played at parties hosted by the Peter family. This program will be taught through group story time\, museum artifacts\, songs and a hands-on art project. \nMember Child: $5 | Non-Member Child: $10 | Accompanying Adult: Free
URL:https://tudorplace.org/event/tudor-tots-m-is-for-music/
LOCATION:Tudor Place
CATEGORIES:Calendar,Members,Tudor Tots,Youth & Family
ATTACH;FMTTYPE=image/jpeg:https://tudorplace.org/wp-content/uploads/2025/12/Tots-scaled.jpg
END:VEVENT
BEGIN:VEVENT
DTSTART;TZID=America/New_York:20261021T101500
DTEND;TZID=America/New_York:20261021T110000
DTSTAMP:20260424T131029
CREATED:20251223T231430Z
LAST-MODIFIED:20251223T231430Z
UID:10000355-1792577700-1792580400@tudorplace.org
SUMMARY:Tudor Tots: V is for Vase
DESCRIPTION:Why do so many people collect fancy dishware? Let’s dive into Tudor Place’s collection of china\, crystal and silver to see why some people collected this type of art. Early learners aged 18 months to four years old will investigate different styles of china\, crystal\, and silver through examples in the collection. This program will be taught through group story time\, museum artifacts\, and a hands-on art project. \nMember Child: $5 | Non-Member Child: $10 | Accompanying Adult: Free
URL:https://tudorplace.org/event/tudor-tots-v-is-for-vase/
LOCATION:Tudor Place
CATEGORIES:Calendar,Members,Tudor Tots,Youth & Family
ATTACH;FMTTYPE=image/jpeg:https://tudorplace.org/wp-content/uploads/2025/12/Tots-scaled.jpg
END:VEVENT
BEGIN:VEVENT
DTSTART;TZID=America/New_York:20261104T101500
DTEND;TZID=America/New_York:20261104T110000
DTSTAMP:20260424T131029
CREATED:20251223T231011Z
LAST-MODIFIED:20251223T231011Z
UID:10000356-1793787300-1793790000@tudorplace.org
SUMMARY:Tudor Tots: W is for Warmth
DESCRIPTION:Brrr! It’s so cold outside! Today\, we have electricity to keep us warm\, but how did people of the past stay warm? Early learners aged 18 months to four years old and their caregivers will take a look at what people of the past did to stay warm by talking about fireplaces\, seeing some examples of quilts and learning about winter fashion. This program will be taught through group story time\, museum artifacts and a hands-on art project. \nMember Child: $5 | Non-Member Child: $10 | Accompanying Adult: Free
URL:https://tudorplace.org/event/tudor-tots-w-is-for-warmth/
LOCATION:Tudor Place
CATEGORIES:Calendar,Members,Tudor Tots,Youth & Family
ATTACH;FMTTYPE=image/jpeg:https://tudorplace.org/wp-content/uploads/2025/12/Tots-scaled.jpg
END:VEVENT
BEGIN:VEVENT
DTSTART;TZID=America/New_York:20261118T101500
DTEND;TZID=America/New_York:20261118T110000
DTSTAMP:20260424T131029
CREATED:20251223T230845Z
LAST-MODIFIED:20251223T230845Z
UID:10000357-1794996900-1794999600@tudorplace.org
SUMMARY:Tudor Tots: T is for Thankful
DESCRIPTION:Tis the season to be thankful! Early learners aged 18 months to four years old and their caregivers will explore the holiday traditions of this historic site. How did the Peter family and other people at Tudor Place show gratitude? This program will be taught through story time\, songs and a hands-on art project. \nMember Child: $5 | Non-Member Child: $10 | Accompanying Adult: Free
URL:https://tudorplace.org/event/tudor-tots-t-is-for-thankful-2/
LOCATION:Tudor Place
CATEGORIES:Calendar,Members,Tudor Tots,Youth & Family
ATTACH;FMTTYPE=image/jpeg:https://tudorplace.org/wp-content/uploads/2025/12/Tots-scaled.jpg
END:VEVENT
BEGIN:VEVENT
DTSTART;TZID=America/New_York:20261209T101500
DTEND;TZID=America/New_York:20261209T110000
DTSTAMP:20260424T131029
CREATED:20251223T230516Z
LAST-MODIFIED:20251223T230516Z
UID:10000358-1796811300-1796814000@tudorplace.org
SUMMARY:Tudor Tots: L is for Light
DESCRIPTION:As the sun sets earlier and more lights are turned on\, how did people of the past see in the dark? Early learners aged 18 months to four years old and their caregivers will learn about candles\, mirrors\, windows and when Tudor Place installed electricity. This program will be taught through group story time\, songs\, museum artifacts and a hands-on art project. \nMember Child: $5 | Non-Member Child: $10 | Accompanying Adult: Free
URL:https://tudorplace.org/event/tudor-tots-l-is-for-light-2/
LOCATION:Tudor Place
CATEGORIES:Calendar,Members,Tudor Tots,Youth & Family
ATTACH;FMTTYPE=image/jpeg:https://tudorplace.org/wp-content/uploads/2025/12/Tots-scaled.jpg
END:VEVENT
END:VCALENDAR