BEGIN:VCALENDAR
VERSION:2.0
PRODID:-//Tudor Place - ECPv6.15.20//NONSGML v1.0//EN
CALSCALE:GREGORIAN
METHOD:PUBLISH
X-WR-CALNAME:Tudor Place
X-ORIGINAL-URL:https://tudorplace.org
X-WR-CALDESC:Events for Tudor Place
REFRESH-INTERVAL;VALUE=DURATION:PT1H
X-Robots-Tag:noindex
X-PUBLISHED-TTL:PT1H
BEGIN:VTIMEZONE
TZID:America/New_York
BEGIN:DAYLIGHT
TZOFFSETFROM:-0500
TZOFFSETTO:-0400
TZNAME:EDT
DTSTART:20250309T070000
END:DAYLIGHT
BEGIN:STANDARD
TZOFFSETFROM:-0400
TZOFFSETTO:-0500
TZNAME:EST
DTSTART:20251102T060000
END:STANDARD
BEGIN:DAYLIGHT
TZOFFSETFROM:-0500
TZOFFSETTO:-0400
TZNAME:EDT
DTSTART:20260308T070000
END:DAYLIGHT
BEGIN:STANDARD
TZOFFSETFROM:-0400
TZOFFSETTO:-0500
TZNAME:EST
DTSTART:20261101T060000
END:STANDARD
BEGIN:DAYLIGHT
TZOFFSETFROM:-0500
TZOFFSETTO:-0400
TZNAME:EDT
DTSTART:20270314T070000
END:DAYLIGHT
BEGIN:STANDARD
TZOFFSETFROM:-0400
TZOFFSETTO:-0500
TZNAME:EST
DTSTART:20271107T060000
END:STANDARD
END:VTIMEZONE
BEGIN:VEVENT
DTSTART;TZID=America/New_York:20260812T101500
DTEND;TZID=America/New_York:20260812T110000
DTSTAMP:20260424T215208
CREATED:20251223T232156Z
LAST-MODIFIED:20251223T234151Z
UID:10000350-1786529700-1786532400@tudorplace.org
SUMMARY:Tudor Tots: G is for Garden
DESCRIPTION:Seeds are baby plants waiting to grow. They come in all shapes and sizes and grow into plants of all shapes and sizes. Early learners aged 18 months to four years old and their caregivers will discover what kinds of plants grow in the historic garden while enjoying a story time\, songs\, a garden experience and a hands-on art project. \nMember Child: $5 | Non-Member Child: $10 | Accompanying Adult: Free
URL:https://tudorplace.org/event/tudor-tots-g-is-for-garden/
LOCATION:Tudor Place
CATEGORIES:Calendar,Members,Tudor Tots,Youth & Family
ATTACH;FMTTYPE=image/jpeg:https://tudorplace.org/wp-content/uploads/2025/12/Tots-scaled.jpg
END:VEVENT
END:VCALENDAR