BEGIN:VCALENDAR
VERSION:2.0
PRODID:-//Tudor Place - ECPv6.15.20//NONSGML v1.0//EN
CALSCALE:GREGORIAN
METHOD:PUBLISH
X-WR-CALNAME:Tudor Place
X-ORIGINAL-URL:https://tudorplace.org
X-WR-CALDESC:Events for Tudor Place
REFRESH-INTERVAL;VALUE=DURATION:PT1H
X-Robots-Tag:noindex
X-PUBLISHED-TTL:PT1H
BEGIN:VTIMEZONE
TZID:America/New_York
BEGIN:DAYLIGHT
TZOFFSETFROM:-0500
TZOFFSETTO:-0400
TZNAME:EDT
DTSTART:20250309T070000
END:DAYLIGHT
BEGIN:STANDARD
TZOFFSETFROM:-0400
TZOFFSETTO:-0500
TZNAME:EST
DTSTART:20251102T060000
END:STANDARD
BEGIN:DAYLIGHT
TZOFFSETFROM:-0500
TZOFFSETTO:-0400
TZNAME:EDT
DTSTART:20260308T070000
END:DAYLIGHT
BEGIN:STANDARD
TZOFFSETFROM:-0400
TZOFFSETTO:-0500
TZNAME:EST
DTSTART:20261101T060000
END:STANDARD
BEGIN:DAYLIGHT
TZOFFSETFROM:-0500
TZOFFSETTO:-0400
TZNAME:EDT
DTSTART:20270314T070000
END:DAYLIGHT
BEGIN:STANDARD
TZOFFSETFROM:-0400
TZOFFSETTO:-0500
TZNAME:EST
DTSTART:20271107T060000
END:STANDARD
END:VTIMEZONE
BEGIN:VEVENT
DTSTART;TZID=America/New_York:20260304T101500
DTEND;TZID=America/New_York:20260304T110000
DTSTAMP:20260424T155932
CREATED:20251223T233700Z
LAST-MODIFIED:20251223T233700Z
UID:10000342-1772619300-1772622000@tudorplace.org
SUMMARY:Tudor Tots: K is for Key
DESCRIPTION:What do all the different keys do? The keys housed in the Tudor Place collection are all different shapes and sizes. Early learners aged 18 months to four years old and caregivers will learn about what keys are\, why the Peter family had so many and be able to touch examples of them. This program will be taught through group story time\, museum artifacts and a hands-on art project. \nMember Child: $5 | Non-Member Child: $10 | Accompanying Adult: Free
URL:https://tudorplace.org/event/tudor-tots-k-is-for-key/
LOCATION:Tudor Place
CATEGORIES:Calendar,Members,Tudor Tots,Youth & Family
ATTACH;FMTTYPE=image/jpeg:https://tudorplace.org/wp-content/uploads/2025/12/Tots-scaled.jpg
END:VEVENT
BEGIN:VEVENT
DTSTART;TZID=America/New_York:20260318T101500
DTEND;TZID=America/New_York:20260318T110000
DTSTAMP:20260424T155932
CREATED:20251223T233536Z
LAST-MODIFIED:20251223T233536Z
UID:10000343-1773828900-1773831600@tudorplace.org
SUMMARY:Tudor Tots: Q is for Quilt
DESCRIPTION:From blankets to quilts\, learn about some textiles at Tudor Place. Early learners aged 18 months to four years old and their caregivers will explore the art of quilt making and learn about the different methods of making a quilt. This program will be taught through group story time\, museum artifacts and a hands-on art project. \nMember Child: $5 | Non-Member Child: $10 | Accompanying Adult: Free
URL:https://tudorplace.org/event/tudor-tots-q-is-for-quilt/
LOCATION:Tudor Place
CATEGORIES:Calendar,Members,Tudor Tots,Youth & Family
ATTACH;FMTTYPE=image/jpeg:https://tudorplace.org/wp-content/uploads/2025/12/Tots-scaled.jpg
END:VEVENT
BEGIN:VEVENT
DTSTART;TZID=America/New_York:20260327T100000
DTEND;TZID=America/New_York:20260327T120000
DTSTAMP:20260424T155932
CREATED:20251205T192149Z
LAST-MODIFIED:20260326T165126Z
UID:10000330-1774605600-1774612800@tudorplace.org
SUMMARY:Eggstravaganza!
DESCRIPTION:SOLD OUT. \nJoin us for this annual family-friendly event to celebrate spring. Take photos with the Easter bunny\, collect Easter eggs\, create art\, enjoy face-painting\, storytime and more. \nChild Member: $15 | Child Non-member: $20 | Child Aged 0 – 2: Free | Accompanying Adult: $10 \nNot a member yet? Sign up here today for this and other benefits. \nThis outdoor event takes place rain or shine. Please dress for the weather. \nTickets for Tudor Place events are non-transferable. For more information\, please contact us at education@tudorplace.org.
URL:https://tudorplace.org/event/eggstravaganza-member-pre-sale/
LOCATION:Tudor Place
CATEGORIES:Calendar,Holidays,Members,Youth & Family
ATTACH;FMTTYPE=image/jpeg:https://tudorplace.org/wp-content/uploads/2025/12/IMG_8052-scaled.jpg
END:VEVENT
BEGIN:VEVENT
DTSTART;TZID=America/New_York:20260327T110000
DTEND;TZID=America/New_York:20260327T130000
DTSTAMP:20260424T155932
CREATED:20251205T192323Z
LAST-MODIFIED:20260326T165058Z
UID:10000331-1774609200-1774616400@tudorplace.org
SUMMARY:Eggstravaganza!
DESCRIPTION:SOLD OUT. \nJoin us for this annual family-friendly event to celebrate spring. Take photos with the Easter bunny\, collect Easter eggs\, create art\, enjoy face-painting\, storytime and more. \nChild Member: $15 | Child Non-member: $20 | Child Aged 0 – 2: Free | Accompanying Adult: $10 \nNot a member yet? Sign up here today for this and other benefits. \nThis outdoor event takes place rain or shine. Please dress for the weather. \nTickets for Tudor Place events are non-transferable. For more information\, please contact us at education@tudorplace.org.
URL:https://tudorplace.org/event/eggstravaganza-member-pre-sale-2/
LOCATION:Tudor Place
CATEGORIES:Calendar,Holidays,Members,Youth & Family
ATTACH;FMTTYPE=image/jpeg:https://tudorplace.org/wp-content/uploads/2025/12/IMG_8052-scaled.jpg
END:VEVENT
BEGIN:VEVENT
DTSTART;TZID=America/New_York:20260328T100000
DTEND;TZID=America/New_York:20260328T120000
DTSTAMP:20260424T155932
CREATED:20251205T193613Z
LAST-MODIFIED:20260326T160218Z
UID:10000332-1774692000-1774699200@tudorplace.org
SUMMARY:Eggstravaganza!
DESCRIPTION:SOLD OUT. \nJoin us for this annual family-friendly event to celebrate spring. Take photos with the Easter bunny\, collect Easter eggs\, create art\, enjoy face-painting\, storytime and more. \nChild Member: $15 | Child Non-member: $20 | Child Aged 0 – 2: Free | Accompanying Adult: $10 \nNot a member yet? Sign up here today for this and other benefits. \nThis outdoor event takes place rain or shine. Please dress for the weather. \nTickets for Tudor Place events are non-transferable. For more information\, please contact us at education@tudorplace.org.
URL:https://tudorplace.org/event/eggstravaganza-member-pre-sale-3/
LOCATION:Tudor Place
CATEGORIES:Calendar,Holidays,Members,Youth & Family
ATTACH;FMTTYPE=image/jpeg:https://tudorplace.org/wp-content/uploads/2025/12/IMG_8052-scaled.jpg
END:VEVENT
BEGIN:VEVENT
DTSTART;TZID=America/New_York:20260328T110000
DTEND;TZID=America/New_York:20260328T130000
DTSTAMP:20260424T155932
CREATED:20251205T193823Z
LAST-MODIFIED:20260326T160320Z
UID:10000333-1774695600-1774702800@tudorplace.org
SUMMARY:Eggstravaganza!
DESCRIPTION:SOLD OUT. \nJoin us for this annual family-friendly event to celebrate spring. Take photos with the Easter bunny\, collect Easter eggs\, create art\, enjoy face-painting\, storytime and more. \nChild Member: $15 | Child Non-member: $20 | Child Aged 0 – 2: Free | Accompanying Adult: $10 \nNot a member yet? Sign up here today for this and other benefits. \nThis outdoor event takes place rain or shine. Please dress for the weather. \nTickets for Tudor Place events are non-transferable. For more information\, please contact us at education@tudorplace.org.
URL:https://tudorplace.org/event/eggstravaganza-member-pre-sale-4/
LOCATION:Tudor Place
CATEGORIES:Calendar,Holidays,Members,Youth & Family
ATTACH;FMTTYPE=image/jpeg:https://tudorplace.org/wp-content/uploads/2025/12/IMG_8052-scaled.jpg
END:VEVENT
END:VCALENDAR