BEGIN:VCALENDAR
VERSION:2.0
PRODID:-//Tudor Place - ECPv6.15.20//NONSGML v1.0//EN
CALSCALE:GREGORIAN
METHOD:PUBLISH
X-ORIGINAL-URL:https://tudorplace.org
X-WR-CALDESC:Events for Tudor Place
REFRESH-INTERVAL;VALUE=DURATION:PT1H
X-Robots-Tag:noindex
X-PUBLISHED-TTL:PT1H
BEGIN:VTIMEZONE
TZID:America/New_York
BEGIN:DAYLIGHT
TZOFFSETFROM:-0500
TZOFFSETTO:-0400
TZNAME:EDT
DTSTART:20240310T070000
END:DAYLIGHT
BEGIN:STANDARD
TZOFFSETFROM:-0400
TZOFFSETTO:-0500
TZNAME:EST
DTSTART:20241103T060000
END:STANDARD
BEGIN:DAYLIGHT
TZOFFSETFROM:-0500
TZOFFSETTO:-0400
TZNAME:EDT
DTSTART:20250309T070000
END:DAYLIGHT
BEGIN:STANDARD
TZOFFSETFROM:-0400
TZOFFSETTO:-0500
TZNAME:EST
DTSTART:20251102T060000
END:STANDARD
BEGIN:DAYLIGHT
TZOFFSETFROM:-0500
TZOFFSETTO:-0400
TZNAME:EDT
DTSTART:20260308T070000
END:DAYLIGHT
BEGIN:STANDARD
TZOFFSETFROM:-0400
TZOFFSETTO:-0500
TZNAME:EST
DTSTART:20261101T060000
END:STANDARD
END:VTIMEZONE
BEGIN:VEVENT
DTSTART;TZID=America/New_York:20250910T100000
DTEND;TZID=America/New_York:20250910T110000
DTSTAMP:20260425T091317
CREATED:20250430T154415Z
LAST-MODIFIED:20250717T204855Z
UID:10000284-1757498400-1757502000@tudorplace.org
SUMMARY:Tudor Tots: A is for Archaeology
DESCRIPTION:Let’s dig into the past and learn about archaeology. Early learners aged 18 months to 4 years old and their caregivers will learn about how we found some artifacts at Tudor Place and what they tell us about people of the past. This program will be taught through group story time\, songs\, museum artifacts and a hands-on art project. \nMember Child: $5 | Non-Member Child: $10 | Accompanying Adult: Free
URL:https://tudorplace.org/event/tudor-tots-a-is-for-archaeology/
LOCATION:Tudor Place
CATEGORIES:Calendar,Members,Tudor Tots,Youth & Family
ATTACH;FMTTYPE=image/jpeg:https://tudorplace.org/wp-content/uploads/2025/04/Knot-Garden-Dig_0043.jpg
END:VEVENT
BEGIN:VEVENT
DTSTART;TZID=America/New_York:20250924T100000
DTEND;TZID=America/New_York:20250924T110000
DTSTAMP:20260425T091317
CREATED:20250718T145658Z
LAST-MODIFIED:20250917T132906Z
UID:10000205-1758708000-1758711600@tudorplace.org
SUMMARY:Tudor Tots: B is for Buildings
DESCRIPTION:From blocks to buildings\, learn about the architecture of Tudor Place. Early learners aged 18 months to 4 years old and their caregivers will explore the historic house to learn about the building. This program will be taught through group story time\, songs\, building blocks and a hands-on art project. \nMember Child: $5 | Non-Member Child: $10 | Accompanying Adult: Free
URL:https://tudorplace.org/event/tudor-tots-b-is-for-buildings/
LOCATION:Tudor Place
CATEGORIES:Calendar,Members,Tudor Tots,Youth & Family
ATTACH;FMTTYPE=image/jpeg:https://tudorplace.org/wp-content/uploads/2025/07/TudorMarch22_014-1-scaled.jpg
END:VEVENT
END:VCALENDAR