BEGIN:VCALENDAR
VERSION:2.0
PRODID:-//Tudor Place - ECPv6.15.20//NONSGML v1.0//EN
CALSCALE:GREGORIAN
METHOD:PUBLISH
X-ORIGINAL-URL:https://tudorplace.org
X-WR-CALDESC:Events for Tudor Place
REFRESH-INTERVAL;VALUE=DURATION:PT1H
X-Robots-Tag:noindex
X-PUBLISHED-TTL:PT1H
BEGIN:VTIMEZONE
TZID:America/New_York
BEGIN:DAYLIGHT
TZOFFSETFROM:-0500
TZOFFSETTO:-0400
TZNAME:EDT
DTSTART:20250309T070000
END:DAYLIGHT
BEGIN:STANDARD
TZOFFSETFROM:-0400
TZOFFSETTO:-0500
TZNAME:EST
DTSTART:20251102T060000
END:STANDARD
BEGIN:DAYLIGHT
TZOFFSETFROM:-0500
TZOFFSETTO:-0400
TZNAME:EDT
DTSTART:20260308T070000
END:DAYLIGHT
BEGIN:STANDARD
TZOFFSETFROM:-0400
TZOFFSETTO:-0500
TZNAME:EST
DTSTART:20261101T060000
END:STANDARD
BEGIN:DAYLIGHT
TZOFFSETFROM:-0500
TZOFFSETTO:-0400
TZNAME:EDT
DTSTART:20270314T070000
END:DAYLIGHT
BEGIN:STANDARD
TZOFFSETFROM:-0400
TZOFFSETTO:-0500
TZNAME:EST
DTSTART:20271107T060000
END:STANDARD
END:VTIMEZONE
BEGIN:VEVENT
DTSTART;TZID=America/New_York:20260603T173000
DTEND;TZID=America/New_York:20260603T203000
DTSTAMP:20260423T085017
CREATED:20251230T200006Z
LAST-MODIFIED:20260306T155431Z
UID:10000359-1780507800-1780518600@tudorplace.org
SUMMARY:Picnic Theatre Company Presents: My Favorite Year: A 1960s Late Night Comedy Parody
DESCRIPTION:Picnic Theatre Company is back at Tudor Place as they present My Favorite Year: A 1960s Late Night Comedy Parody. Bring chairs\, blankets and a picnic to enjoy before or during the performance. The grounds will open at 5:30 p.m.\, and the play will begin at 7:00 p.m. \nGuests are encouraged to bring water. Be sure to remove all trash. Trash receptacles are not provided. Bring mats\, blankets or a camp chair. Due to the historic landscape\, games\, chairs with legs\, blow up furniture\, red drinks (including wine)\, etc. are not permitted. \nMembers: $20 | Non-Members: $20
URL:https://tudorplace.org/event/picnic-theatre-company-presents-my-favorite-year-a-1960s-late-night-comedy-parody/
LOCATION:Tudor Place
CATEGORIES:Adult Programs,Calendar,Garden,Members,Summer
ATTACH;FMTTYPE=image/jpeg:https://tudorplace.org/wp-content/uploads/2025/12/Picnic-Theater.jpg
END:VEVENT
BEGIN:VEVENT
DTSTART;TZID=America/New_York:20260605T173000
DTEND;TZID=America/New_York:20260605T203000
DTSTAMP:20260423T085017
CREATED:20251230T200727Z
LAST-MODIFIED:20260306T155420Z
UID:10000360-1780680600-1780691400@tudorplace.org
SUMMARY:Picnic Theatre Company Presents: My Favorite Year: A 1960s Late Night Comedy Parody
DESCRIPTION:Picnic Theatre Company is back at Tudor Place as they present My Favorite Year: A 1960s Late Night Comedy Parody. Bring chairs\, blankets and a picnic to enjoy before or during the performance. The grounds will open at 5:30 p.m.\, and the play will begin at 7:00 p.m. \nGuests are encouraged to bring water. Be sure to remove all trash. Trash receptacles are not provided. Bring mats\, blankets or a camp chair. Due to the historic landscape\, games\, chairs with legs\, blow up furniture\, red drinks (including wine)\, etc. are not permitted. \nMembers: $20 | Non-Members: $20
URL:https://tudorplace.org/event/picnic-theatre-company-presents-my-favorite-year-a-1960s-late-night-comedy-parody-2/
LOCATION:Tudor Place
CATEGORIES:Adult Programs,Calendar,Garden,Members,Summer
ATTACH;FMTTYPE=image/jpeg:https://tudorplace.org/wp-content/uploads/2025/12/Picnic-Theater.jpg
END:VEVENT
BEGIN:VEVENT
DTSTART;TZID=America/New_York:20260606T133000
DTEND;TZID=America/New_York:20260606T141500
DTSTAMP:20260423T085017
CREATED:20251118T225722Z
LAST-MODIFIED:20260306T160404Z
UID:10000311-1780752600-1780755300@tudorplace.org
SUMMARY:Guided Garden Tour
DESCRIPTION:Explore Tudor Place on a guided tour with our garden team. Learn about the site’s history\, design and the principles that guide our care of this historic landscape. \nAccessibility: The garden is accessible from the city sidewalk\, without steps\, via a cobblestone path. Garden surfaces consist of grassy areas and paths laid with pea gravel\, flagstone\, bricks and stones set in grass. There are stairs and uneven surfaces. Some areas are only accessed via steps. \nMember: $5 | Non-Member: $10
URL:https://tudorplace.org/event/guided-garden-tour-9/
LOCATION:Tudor Place
CATEGORIES:Adult Programs,Calendar,Garden,Members,Summer
ATTACH;FMTTYPE=image/png:https://tudorplace.org/wp-content/uploads/2025/11/Garden-Specialty-Tour-Website-Final.png
END:VEVENT
BEGIN:VEVENT
DTSTART;VALUE=DATE:20260706
DTEND;VALUE=DATE:20260712
DTSTAMP:20260423T085017
CREATED:20251125T185747Z
LAST-MODIFIED:20251125T185747Z
UID:10000329-1783296000-1783814399@tudorplace.org
SUMMARY:Civil War Washington – Teacher Professional Development
DESCRIPTION:In this week-long institute\, designed for K-12 teachers\, connect with peers to illuminate new perspective and under-told stories. Explore historic sites and collect a wealth of resources.  Gain tools to help students grapple with histories whose legacies matter today.  Hosted by the Civil War Washington Consortium\, who are committed to investigating the Civil War in all its complexity and seek applicants with diverse experiences who bring a variety of perspectives to the week of learning. \nTeachers/Educators: FREE. Participants must pay a $100 refundable deposit to secure their place in the institute. Deposits are refunded upon successful completion of the program. \nConsortium Members = Ford’s Theater\, Tudor Place Historic House & Garden\, Frederick Douglass’ Home at Cedar Hill and President Lincoln’s Cottage. \nApplications accepted November 18\, 2025 – March 2\, 2026. Click here. 
URL:https://tudorplace.org/event/civil-war-washington-teacher-professional-development-2/
LOCATION:DC
CATEGORIES:Adult Programs,Black History,Calendar,Free,Summer,Teachers
ATTACH;FMTTYPE=image/jpeg:https://tudorplace.org/wp-content/uploads/2025/01/CWW.jpg
END:VEVENT
BEGIN:VEVENT
DTSTART;TZID=America/New_York:20260714T173000
DTEND;TZID=America/New_York:20260714T193000
DTSTAMP:20260423T085018
CREATED:20251124T155734Z
LAST-MODIFIED:20260227T155035Z
UID:10000325-1784050200-1784057400@tudorplace.org
SUMMARY:Tudor Tuesday
DESCRIPTION:Looking for the perfect way to unwind? Join us for Tudor Tuesdays\, our special after-hours summer series. Experience Tudor Place in a whole new light! Nestled in the heart of Georgetown\, this National Historic Landmark offers a peaceful escape from the hustle and bustle of daily life. Plan a laid-back evening with friends\, family outing or a charming date night\, Tudor Place provides the perfect backdrop for a memorable summer evening. \n✨ What’s Waiting for You: \n\nOpportunity to visit our America’s 250 exhibit\, Founding Fortunes\, in the historic house\nArt Activities on the Lawn\nRelaxing Atmosphere\n\nMembers: FREE | Non-Members: $5 \nBring your own picnic\, mat/blanket and lawn chairs (please note: no red wine or red juices). Be sure to remove all trash. Trash receptacles are not provided.  Due to the historic landscape\, games\, blow up furniture\, etc. are not permitted \n 
URL:https://tudorplace.org/event/tudor-tuesday-3/
LOCATION:Tudor Place
CATEGORIES:Adult Programs,Calendar,Garden,Members,Summer,Youth & Family
ATTACH;FMTTYPE=image/jpeg:https://tudorplace.org/wp-content/uploads/2025/11/Tudor-Tuesdays-fill-in-scaled.jpg
END:VEVENT
BEGIN:VEVENT
DTSTART;TZID=America/New_York:20260728T173000
DTEND;TZID=America/New_York:20260728T193000
DTSTAMP:20260423T085018
CREATED:20251124T171121Z
LAST-MODIFIED:20260227T155008Z
UID:10000326-1785259800-1785267000@tudorplace.org
SUMMARY:Tudor Tuesday
DESCRIPTION:Looking for the perfect way to unwind? Join us for Tudor Tuesdays\, our special after-hours summer series. Experience Tudor Place in a whole new light! Nestled in the heart of Georgetown\, this National Historic Landmark offers a peaceful escape from the hustle and bustle of daily life. Plan a laid-back evening with friends\, family outing or a charming date night\, Tudor Place provides the perfect backdrop for a memorable summer evening. \n✨ What’s Waiting for You: \n\nOpportunity to visit our America’s 250 exhibit\, Founding Fortunes\, in the historic house\nArt Activities on the Lawn\nRelaxing Atmosphere\n\nMembers: FREE | Non-Members: $5 \nBring your own picnic\, mat/blanket and lawn chairs (please note: no red wine or red juices). Be sure to remove all trash. Trash receptacles are not provided.  Due to the historic landscape\, games\, blow up furniture\, etc. are not permitted \n 
URL:https://tudorplace.org/event/tudor-tuesday-4/
LOCATION:Tudor Place
CATEGORIES:Adult Programs,Calendar,Garden,Members,Summer,Youth & Family
ATTACH;FMTTYPE=image/jpeg:https://tudorplace.org/wp-content/uploads/2025/11/Tudor-Tuesdays-fill-in-scaled.jpg
END:VEVENT
BEGIN:VEVENT
DTSTART;TZID=America/New_York:20260811T173000
DTEND;TZID=America/New_York:20260811T193000
DTSTAMP:20260423T085018
CREATED:20251124T171219Z
LAST-MODIFIED:20260227T154940Z
UID:10000327-1786469400-1786476600@tudorplace.org
SUMMARY:Tudor Tuesday
DESCRIPTION:Looking for the perfect way to unwind? Join us for Tudor Tuesdays\, our special after-hours summer series. Experience Tudor Place in a whole new light! Nestled in the heart of Georgetown\, this National Historic Landmark offers a peaceful escape from the hustle and bustle of daily life. Plan a laid-back evening with friends\, family outing or a charming date night\, Tudor Place provides the perfect backdrop for a memorable summer evening. \n✨ What’s Waiting for You: \n\nOpportunity to visit our America’s 250 exhibit\, Founding Fortunes\, in the historic house\nArt Activities on the Lawn\nRelaxing Atmosphere\n\nMembers: FREE | Non-Members: $5 \nBring your own picnic\, mat/blanket and lawn chairs (please note: no red wine or red juices). Be sure to remove all trash. Trash receptacles are not provided.  Due to the historic landscape\, games\, blow up furniture\, etc. are not permitted \n 
URL:https://tudorplace.org/event/tudor-tuesday-5/
LOCATION:Tudor Place
CATEGORIES:Adult Programs,Calendar,Garden,Members,Summer,Youth & Family
ATTACH;FMTTYPE=image/jpeg:https://tudorplace.org/wp-content/uploads/2025/11/Tudor-Tuesdays-fill-in-scaled.jpg
END:VEVENT
BEGIN:VEVENT
DTSTART;TZID=America/New_York:20260822T140000
DTEND;TZID=America/New_York:20260822T160000
DTSTAMP:20260423T085018
CREATED:20260109T164955Z
LAST-MODIFIED:20260109T164955Z
UID:10000370-1787407200-1787414400@tudorplace.org
SUMMARY:History on Iced Tea & Tour
DESCRIPTION:We are bringing our popular Tea & Tour program to the summer\, serving iced tea with a dash of history. Enjoy tea sandwiches\, cakes and other treats at our dining terrace (rain location – Dower House). Following tea\, participants will receive a guided tour of the garden and learn more the Peter family’s love of the outdoors\, especially the generation of Armistead Peter Jr. \nMembers: $55 | Non-Members: $65
URL:https://tudorplace.org/event/history-on-iced-tea-tour/
LOCATION:Dower House\, 1670 31st Street NW\, Washington\, DC\, 20007\, United States
CATEGORIES:Adult Programs,Calendar,Garden,Members,Summer,Tours
ATTACH;FMTTYPE=image/jpeg:https://tudorplace.org/wp-content/uploads/2026/01/TeaTours.jpg
END:VEVENT
BEGIN:VEVENT
DTSTART;TZID=America/New_York:20260825T173000
DTEND;TZID=America/New_York:20260825T193000
DTSTAMP:20260423T085018
CREATED:20251124T171330Z
LAST-MODIFIED:20260227T154612Z
UID:10000328-1787679000-1787686200@tudorplace.org
SUMMARY:Tudor Tuesday
DESCRIPTION:Looking for the perfect way to unwind? Join us for Tudor Tuesdays\, our special after-hours summer series. Experience Tudor Place in a whole new light! Nestled in the heart of Georgetown\, this National Historic Landmark offers a peaceful escape from the hustle and bustle of daily life. Plan a laid-back evening with friends\, family outing or a charming date night\, Tudor Place provides the perfect backdrop for a memorable summer evening. \n✨ What’s Waiting for You: \n\nOpportunity to visit our America’s 250 exhibit\, Founding Fortunes\, in the historic house\nArt Activities on the Lawn\nRelaxing Atmosphere\n\nMembers: FREE | Non-Members: $5 \nBring your own picnic\, mat/blanket and lawn chairs (please note: no red wine or red juices). Be sure to remove all trash. Trash receptacles are not provided.  Due to the historic landscape\, games\, blow up furniture\, etc. are not permitted \n 
URL:https://tudorplace.org/event/tudor-tuesday-6/
LOCATION:Tudor Place
CATEGORIES:Adult Programs,Calendar,Garden,Members,Summer,Youth & Family
ATTACH;FMTTYPE=image/jpeg:https://tudorplace.org/wp-content/uploads/2025/11/Tudor-Tuesdays-fill-in-scaled.jpg
END:VEVENT
END:VCALENDAR