BEGIN:VCALENDAR
VERSION:2.0
PRODID:-//Tudor Place - ECPv6.15.20//NONSGML v1.0//EN
CALSCALE:GREGORIAN
METHOD:PUBLISH
X-WR-CALNAME:Tudor Place
X-ORIGINAL-URL:https://tudorplace.org
X-WR-CALDESC:Events for Tudor Place
REFRESH-INTERVAL;VALUE=DURATION:PT1H
X-Robots-Tag:noindex
X-PUBLISHED-TTL:PT1H
BEGIN:VTIMEZONE
TZID:America/New_York
BEGIN:DAYLIGHT
TZOFFSETFROM:-0500
TZOFFSETTO:-0400
TZNAME:EDT
DTSTART:20250309T070000
END:DAYLIGHT
BEGIN:STANDARD
TZOFFSETFROM:-0400
TZOFFSETTO:-0500
TZNAME:EST
DTSTART:20251102T060000
END:STANDARD
BEGIN:DAYLIGHT
TZOFFSETFROM:-0500
TZOFFSETTO:-0400
TZNAME:EDT
DTSTART:20260308T070000
END:DAYLIGHT
BEGIN:STANDARD
TZOFFSETFROM:-0400
TZOFFSETTO:-0500
TZNAME:EST
DTSTART:20261101T060000
END:STANDARD
BEGIN:DAYLIGHT
TZOFFSETFROM:-0500
TZOFFSETTO:-0400
TZNAME:EDT
DTSTART:20270314T070000
END:DAYLIGHT
BEGIN:STANDARD
TZOFFSETFROM:-0400
TZOFFSETTO:-0500
TZNAME:EST
DTSTART:20271107T060000
END:STANDARD
END:VTIMEZONE
BEGIN:VEVENT
DTSTART;TZID=America/New_York:20260502T100000
DTEND;TZID=America/New_York:20260502T120000
DTSTAMP:20260425T102543
CREATED:20251219T160541Z
LAST-MODIFIED:20260414T133704Z
UID:10000340-1777716000-1777723200@tudorplace.org
SUMMARY:Weekend Weeders
DESCRIPTION:Join fellow garden lovers and the Tudor Place garden team and help remove invasive plants and replace with native plants. Learn to identify different species of invasive species and some of their native alternatives.  Suggested attire includes: long pants\, long sleeves\, gloves and sturdy boots or sneakers. Tools will be provided. Volunteers will be responsible for water\, bug spray and sun protection.  Due to use of sharp tools\, this activity is restricted to those age 13 years and older. \nMembers: Free | Non-Members: Free
URL:https://tudorplace.org/event/weekend-weeders-12/
LOCATION:Tudor Place
CATEGORIES:Adult Programs,Calendar,Free,Garden,Members
ATTACH;FMTTYPE=image/jpeg:https://tudorplace.org/wp-content/uploads/2025/01/Weekend-Weeders-e1737571083126.jpg
END:VEVENT
BEGIN:VEVENT
DTSTART;TZID=America/New_York:20260502T133000
DTEND;TZID=America/New_York:20260502T141500
DTSTAMP:20260425T102543
CREATED:20251118T224947Z
LAST-MODIFIED:20260306T160921Z
UID:10000310-1777728600-1777731300@tudorplace.org
SUMMARY:Guided Garden Tour
DESCRIPTION:Explore Tudor Place on a guided tour with our garden team. Learn about the site’s history\, design and the principles that guide our care of this historic landscape. \nAccessibility: The garden is accessible from the city sidewalk\, without steps\, via a cobblestone path. Garden surfaces consist of grassy areas and paths laid with pea gravel\, flagstone\, bricks and stones set in grass. There are stairs and uneven surfaces. Some areas are only accessed via steps. \nMember: $5 | Non-Member: $10
URL:https://tudorplace.org/event/guided-garden-tour-8/
LOCATION:Tudor Place
CATEGORIES:Adult Programs,Calendar,Garden,Members,Tours
ATTACH;FMTTYPE=image/png:https://tudorplace.org/wp-content/uploads/2025/11/Garden-Specialty-Tour-Website-Final.png
END:VEVENT
BEGIN:VEVENT
DTSTART;TZID=America/New_York:20260512T183000
DTEND;TZID=America/New_York:20260512T200000
DTSTAMP:20260425T102543
CREATED:20260113T150952Z
LAST-MODIFIED:20260305T204547Z
UID:10000378-1778610600-1778616000@tudorplace.org
SUMMARY:Landmark Lecture: On National Commemorations: The Bicentennial\, the Semiquincentennial and What We Can Learn About the Future of the Past
DESCRIPTION:In this talk\, Dr. M.J. Rymsza-Pawlowska will draw from her book on the 1976 Bicentennial\, “History Comes Alive: Public History and Popular Culture in the 1970s\,” as well as in-progress research about how Americans are engaging history in order to explore and explain the way that national commemorations help to clarify\, crystalize and accelerate emergent trends in historical engagement. How will the upcoming Semiquincentennial reflect what history looks like now? \nM.J. Rymsza-Pawlowska is an interdisciplinary cultural historian of 19th- and 20th-century United States and an associate professor of history and public history at American University. She is the author of “History Comes Alive: Public History and Popular Culture in the 1970s” (University of North Carolina Press\, 2017)\, which traces the emergence of immersive engagement with the past in postwar American culture and numerous articles in scholarly journals. She is a New America Us@250 fellow and Smithsonian Research Associate. Her work has been profiled in the Washington Post\, New York Times\, Bloomberg and Time magazine\, and in 2022\, she was a featured commentator on Netflix’s “D.B. Cooper\, Where Are You?” documentary. \nMembers: FREE | Non-Members: FREE \n \nThis event is part of America250 at Tudor Place.
URL:https://tudorplace.org/event/landmark-lecture-on-national-commemorations-the-bicentennial-the-semiquincentennial-and-what-we-can-learn-about-the-future-of-the-past/
LOCATION:Dower House\, 1670 31st Street NW\, Washington\, DC\, 20007\, United States
CATEGORIES:250th Events,Adult Programs,Calendar,Free,Landmark Lecture,Members
ATTACH;FMTTYPE=image/png:https://tudorplace.org/wp-content/uploads/2026/01/Landmark-Lecture_05.2026-2.png
END:VEVENT
BEGIN:VEVENT
DTSTART;TZID=America/New_York:20260512T183000
DTEND;TZID=America/New_York:20260512T200000
DTSTAMP:20260425T102543
CREATED:20260113T151117Z
LAST-MODIFIED:20260305T204506Z
UID:10000379-1778610600-1778616000@tudorplace.org
SUMMARY:Landmark Lecture: On National Commemorations: The Bicentennial\, the Semiquincentennial and What We Can Learn About the Future of the Past (Virtual)
DESCRIPTION:In this talk\, Dr. M.J. Rymsza-Pawlowska will draw from her book on the 1976 Bicentennial\, “History Comes Alive: Public History and Popular Culture in the 1970s\,” as well as in-progress research about how Americans are engaging history in order to explore and explain the way that national commemorations help to clarify\, crystalize and accelerate emergent trends in historical engagement. How will the upcoming Semiquincentennial reflect what history looks like now? \nM.J. Rymsza-Pawlowska is an interdisciplinary cultural historian of 19th- and 20th-century United States and an associate professor of history and public history at American University. She is the author of “History Comes Alive: Public History and Popular Culture in the 1970s” (University of North Carolina Press\, 2017)\, which traces the emergence of immersive engagement with the past in postwar American culture and numerous articles in scholarly journals. She is a New America Us@250 fellow and Smithsonian Research Associate. Her work has been profiled in the Washington Post\, New York Times\, Bloomberg and Time magazine\, and in 2022\, she was a featured commentator on Netflix’s “D.B. Cooper\, Where Are You?” documentary. \nMembers: FREE | Non-Members: FREE \n \nThis event is part of America250 at Tudor Place.
URL:https://tudorplace.org/event/landmark-lecture-on-national-commemorations-the-bicentennial-the-semiquincentennial-and-what-we-can-learn-about-the-future-of-the-past-virtual/
LOCATION:Dower House\, 1670 31st Street NW\, Washington\, DC\, 20007\, United States
CATEGORIES:250th Events,Adult Programs,Calendar,Free,Landmark Lecture,Members
ATTACH;FMTTYPE=image/png:https://tudorplace.org/wp-content/uploads/2026/01/Landmark-Lecture_05.2026-1.png
END:VEVENT
END:VCALENDAR