BEGIN:VCALENDAR
VERSION:2.0
PRODID:-//Tudor Place - ECPv6.15.20//NONSGML v1.0//EN
CALSCALE:GREGORIAN
METHOD:PUBLISH
X-WR-CALNAME:Tudor Place
X-ORIGINAL-URL:https://tudorplace.org
X-WR-CALDESC:Events for Tudor Place
REFRESH-INTERVAL;VALUE=DURATION:PT1H
X-Robots-Tag:noindex
X-PUBLISHED-TTL:PT1H
BEGIN:VTIMEZONE
TZID:America/New_York
BEGIN:DAYLIGHT
TZOFFSETFROM:-0500
TZOFFSETTO:-0400
TZNAME:EDT
DTSTART:20250309T070000
END:DAYLIGHT
BEGIN:STANDARD
TZOFFSETFROM:-0400
TZOFFSETTO:-0500
TZNAME:EST
DTSTART:20251102T060000
END:STANDARD
BEGIN:DAYLIGHT
TZOFFSETFROM:-0500
TZOFFSETTO:-0400
TZNAME:EDT
DTSTART:20260308T070000
END:DAYLIGHT
BEGIN:STANDARD
TZOFFSETFROM:-0400
TZOFFSETTO:-0500
TZNAME:EST
DTSTART:20261101T060000
END:STANDARD
BEGIN:DAYLIGHT
TZOFFSETFROM:-0500
TZOFFSETTO:-0400
TZNAME:EDT
DTSTART:20270314T070000
END:DAYLIGHT
BEGIN:STANDARD
TZOFFSETFROM:-0400
TZOFFSETTO:-0500
TZNAME:EST
DTSTART:20271107T060000
END:STANDARD
END:VTIMEZONE
BEGIN:VEVENT
DTSTART;TZID=America/New_York:20260715T101500
DTEND;TZID=America/New_York:20260715T110000
DTSTAMP:20260421T143141
CREATED:20251223T232452Z
LAST-MODIFIED:20251223T232452Z
UID:10000349-1784110500-1784113200@tudorplace.org
SUMMARY:Tudor Tots: H is for Hat
DESCRIPTION:So many hats! Caroline Peter owned many different types of hats. Learn about changing fashions by exploring some of her styles. Early learners aged 18 months to four years old and their caregivers will learn about different hat styles and fashion of the 20th century through the hats left by Caroline Peter. This program will be taught through group story time\, museum artifacts and a hands-on art project. \nMember Child: $5 | Non-Member Child: $10 | Accompanying Adult: Free
URL:https://tudorplace.org/event/tudor-tots-h-is-for-hat/
LOCATION:Tudor Place
CATEGORIES:Calendar,Members,Tudor Tots,Youth & Family
ATTACH;FMTTYPE=image/jpeg:https://tudorplace.org/wp-content/uploads/2025/12/Tots-scaled.jpg
END:VEVENT
END:VCALENDAR