BEGIN:VCALENDAR
VERSION:2.0
PRODID:-//Tudor Place - ECPv6.15.20//NONSGML v1.0//EN
CALSCALE:GREGORIAN
METHOD:PUBLISH
X-WR-CALNAME:Tudor Place
X-ORIGINAL-URL:https://tudorplace.org
X-WR-CALDESC:Events for Tudor Place
REFRESH-INTERVAL;VALUE=DURATION:PT1H
X-Robots-Tag:noindex
X-PUBLISHED-TTL:PT1H
BEGIN:VTIMEZONE
TZID:America/New_York
BEGIN:DAYLIGHT
TZOFFSETFROM:-0500
TZOFFSETTO:-0400
TZNAME:EDT
DTSTART:20250309T070000
END:DAYLIGHT
BEGIN:STANDARD
TZOFFSETFROM:-0400
TZOFFSETTO:-0500
TZNAME:EST
DTSTART:20251102T060000
END:STANDARD
BEGIN:DAYLIGHT
TZOFFSETFROM:-0500
TZOFFSETTO:-0400
TZNAME:EDT
DTSTART:20260308T070000
END:DAYLIGHT
BEGIN:STANDARD
TZOFFSETFROM:-0400
TZOFFSETTO:-0500
TZNAME:EST
DTSTART:20261101T060000
END:STANDARD
BEGIN:DAYLIGHT
TZOFFSETFROM:-0500
TZOFFSETTO:-0400
TZNAME:EDT
DTSTART:20270314T070000
END:DAYLIGHT
BEGIN:STANDARD
TZOFFSETFROM:-0400
TZOFFSETTO:-0500
TZNAME:EST
DTSTART:20271107T060000
END:STANDARD
END:VTIMEZONE
BEGIN:VEVENT
DTSTART;TZID=America/New_York:20260513T101500
DTEND;TZID=America/New_York:20260513T110000
DTSTAMP:20260421T125203
CREATED:20251223T232952Z
LAST-MODIFIED:20251223T232952Z
UID:10000346-1778667300-1778670000@tudorplace.org
SUMMARY:Tudor Tots: A is for Art
DESCRIPTION:The last owner of Tudor Place\, Armistead Peter 3rd\, was an artist. Let’s learn about the different styles of art through some of the works that he and members of his family made. Early learners aged 18 months to four years old and their caregivers will be able to explore the art collection of Tudor Place. This program will be taught through group story time\, museum artifacts and a hands-on art project. \nMember Child: $5 | Non-Member Child: $10 | Accompanying Adult: Free
URL:https://tudorplace.org/event/tudor-tots-a-is-for-art/
LOCATION:Tudor Place
CATEGORIES:Calendar,Members,Tudor Tots,Youth & Family
ATTACH;FMTTYPE=image/jpeg:https://tudorplace.org/wp-content/uploads/2025/12/Tots-scaled.jpg
END:VEVENT
END:VCALENDAR